BEGIN:VCALENDAR
VERSION:2.0
PRODID:-//TEST Apricus e.V.//NONSGML kigkonsult.se iCalcreator 2.41.92//
CALSCALE:GREGORIAN
METHOD:PUBLISH
UID:37386631-3734-4331-a465-323536366261
X-WR-CALNAME:iCagenda
X-WR-CALDESC:Event Management Extension for Joomla!
X-WR-RELCALID:3E26604A-50F4-4449-8B3E-E4F4932D05B5
X-WR-TIMEZONE:Europe/Berlin
BEGIN:VTIMEZONE
TZID:Europe/Berlin
TZUNTIL:20251026T010000Z
BEGIN:STANDARD
TZNAME:CET
DTSTART:20231029T030000
TZOFFSETFROM:+0200
TZOFFSETTO:+0100
RDATE:20241027T030000
END:STANDARD
BEGIN:DAYLIGHT
TZNAME:CEST
DTSTART:20230326T020000
TZOFFSETFROM:+0100
TZOFFSETTO:+0200
RDATE:20240331T020000
RDATE:20250330T020000
END:DAYLIGHT
END:VTIMEZONE
BEGIN:VEVENT
UID:35313332-6430-4462-a530-383230636362
DTSTAMP:20260425T214125Z
CATEGORIES:Wandern
CLASS:PUBLIC
DESCRIPTION;ALTREP="CID:<FFFF__=0ABBE548DFE235B58f9e8a93d@coffeebean.com>":
 Liebe Apricusse und Gäste.\nAm letzten Februar-Wochenende möchte ich Euch 
 zu 2 kleinen Muldentalwanderungen einladen.\nSamstag:\nNach der Anreise mi
 t Bahn und Bus (ab Leipzig über Geithain) starten wir mit einem Schlossbes
 uch in Rochlitz.\n\n„Seit mehr als 600 Jahren erheben sich in Rochlitz die
  Türme »Lichte Jupe« und »Finstere Jupe«. Schloss Rochlitz wurde im 10. Ja
 hrhundert als Burg zur Sicherung des Sieges über die Westslawen erbaut. Sp
 äter regierten Fürsten zwischen kriegerischen Belagerungen. Aber das Schlo
 ss&nbsp\;erlebte auch hellere Zeiten: Dedo von Groitzsch\, genannt »der Fe
 tte«\, trieb die Besiedlung des Rochlitzer Landes voran. Markgraf Wilhelm 
 der Einäugige ließ die Burg zu einem Wohnschloss&nbsp\;umbauen. Herzogin E
 lisabeth von Sachsen ebnete im Schmalkadischen Krieg der Reformation den W
 eg. Besonders eindrucksvoll ist das liebevoll restaurierte Fürstenhaus mit
  seinen herrschaftlichen Räumen und dem prächtigen Tafelsaal. In einer int
 eraktiven Ausstellung erleben Groß und Klein die Geschichte der »vergessen
 en Wettiner«.“\n\nNach dem Besuch des Schlosses werden wir erstmal zum Mit
 tagessen am Markt in Colditz einkehren.\nDer Nachmittag gehört dann der Mu
 lde. Die Mulde und das Muldental in diesem Bereich sind noch recht urtümli
 ch und nicht zu sehr begradigt. Außerdem gehören Teile dieser Gegend zu Vo
 gelschutzgebieten.Wir wandern durch das Muldental über Klarap und Lastau c
 a. 14&nbsp\;km bis Colditz. Hier sind wir in der Jugendherberge im Schloss
  einquartiert.\nDer Sonntag sollte eigentlich nach dem Frühstück mit dem M
 useumsbesuch im Schloss beginnen. Da das Museum aber leider gerade renovie
 rt wird\, nehmen wir uns mehr Zeit\, unterwegs die Gegend zu erforschen. N
 ach einem kleinen Stadtrundgang in Colditz starten wir bis zur Mittagspaus
 e in der Nähe der Muldenvereinigung der Freiberger und Zwickauer Mulde bei
  Sermuth.\nDann geht es weiter bis nach Höfgen\, wo wir uns die Wassermühl
 e anschauen und eine Kaffeepause einlegen können. Grimma erreichen wir nac
 h insgesamt ca. 16&nbsp\;km zunächst an der sehr bekannten und nach dem le
 tzten Hochwasser neu erbauten Hängebrücke. Wenn dann noch Zeit ist\, lohnt
  sich auch ein Besuch der hübschen Innenstadt.\nOrganisatorisches\nTreffpu
 nkt Samstag:\n\nIn Leipzig Hbf.: 09:05&nbsp\;Uhr\, Gleis 23 – hier fährt d
 er Zug nach Geithain um 09:22 Uhr ab\nIn Geithain: 09:55 Uhr – hier fährt 
 der Bus 629 um 10:03 Uhr nach Rochlitz ab\n\nBei Teilnahme an den einzelne
 n Tagestouren:\n\nAbreise von Colditz: ab Sportplatz Colditz\, 18:28 Uhr m
 it Bus 613 nach Bad Lausick\, weiter mit RE\nTreffpunkt Sonntag: am Schlos
 s Colditz um 10:00&nbsp\;Uhr\n\nRückfahrt Sonntag ab Grimma: 18:26 Uhr (bi
 s 19:00 Uhr) oder 19:26 Uhr (bis 20:00 Uhr) nach Leipzig \nKosten:\n  \n\n
 \n\n\n\nTN-Gruppe\nApricus\nGäste\n\n\n\n\nErwachsene\n\n56\n61\n\n\nBürge
 rgeldempfänger/Studenten ab 27 Jahre\n\n46\n51\n\n\nJugendliche 16-26 Jahr
 e\n\n46\n48\n\n\n\nIn den Kosten enthalten sind: Übernachtung\, Halbpensio
 n\, Bettwäsche und der Schlossbesuch in Rochitz\nNicht enthalten: Kosten f
 ür An-\, Abreise und Mittagessen\nFür diejenigen\, die nur einen Tag teiln
 ehmen gelten die Beiträge nicht. Dann ist nur jeweils 1&nbsp\;€ Versicheru
 ngsbeitrag von Gästen zu bezahlen und der Schlosseintritt vor Ort.\nAnmeld
 en bitte bis 10.2.:\nBitte meldet Euch bei Michael Kraus unter der Telefon
 nummer 0176-31330108 oder per Mail unter mkraus70@yahoo.de an.\nDie Anmeld
 ung gilt nur bei gleichzeitiger Überweisung auf das {loadposition ap-konto
 daten}\nAuf ein schönes – vielleicht ja winterliches (?) - Wochenende im M
 uldental freut sichDer Micha\nPS: Falls Schnee liegen sollte\, könnte natü
 rlich auch Ski gefahren werden.
DTSTART:20240224T090000Z
DTEND:20240225T170000Z
GEO:00;0
LOCATION:
ORGANIZER:
SEQUENCE:1
SUMMARY:Wanderwochenende Muldental
TRANSP:OPAQUE
URL:https://test.apricus-ev.de/component/icagenda/wanderwochenende-muldenta
 l?layout=vcal
END:VEVENT
END:VCALENDAR
