BEGIN:VCALENDAR
VERSION:2.0
PRODID:-//TEST Apricus e.V.//NONSGML kigkonsult.se iCalcreator 2.41.92//
CALSCALE:GREGORIAN
METHOD:PUBLISH
UID:32343462-3662-4030-b161-666365626361
X-WR-CALNAME:iCagenda
X-WR-CALDESC:Event Management Extension for Joomla!
X-WR-RELCALID:3E26604A-50F4-4449-8B3E-E4F4932D05B5
X-WR-TIMEZONE:Europe/Berlin
BEGIN:VTIMEZONE
TZID:Europe/Berlin
TZUNTIL:20261025T010000Z
BEGIN:STANDARD
TZNAME:CET
DTSTART:20241027T030000
TZOFFSETFROM:+0200
TZOFFSETTO:+0100
RDATE:20251026T030000
END:STANDARD
BEGIN:DAYLIGHT
TZNAME:CEST
DTSTART:20240331T020000
TZOFFSETFROM:+0100
TZOFFSETTO:+0200
RDATE:20250330T020000
RDATE:20260329T020000
END:DAYLIGHT
END:VTIMEZONE
BEGIN:VEVENT
UID:39643366-3164-4061-a435-663134643462
DTSTAMP:20260425T215229Z
CATEGORIES:Skilaufen\, Skaten
CLASS:PUBLIC
DESCRIPTION;ALTREP="CID:<FFFF__=0ABBE548DFE235B58f9e8a93d@coffeebean.com>":
 \nLiebe Apricüsse und Gäste\,\nwir möchten zum inzwischen 6.&nbsp\;Mal in 
 Folge gemeinsam ein Winterwochenende im ausgemachten Skilanglaufgebiet Fra
 uenstein-Nassau im Osterzgebirge verbringen. Dort werden wir von Freitag d
 en 7.2. bis Sonntag den 9.2.2025 in der Jugendherberge Frauenstein unterge
 bracht sein. Der JH-Koch ist spezialisiert auf lokale Küche und stellt die
  für seine Heimat typischen Gerichte wie erzgebirgische Kartoffelsuppe\, B
 uchteln (Hefeklöße) mit Heidelbeeren oder Quarkkäulchen her. Kulinarisch w
 ird dieses Wochenende also schon mal ein Highlight!\nDie Anreise per Bahn\
 , Bus und Zug oder Auto ist für Freitag ab 17&nbsp\;Uhr geplant - Bahnreis
 ende aus Berlin\, Brandenburg oder Leipzig können bis Dresden oder Freiber
 g fahren und ab dort mit dem Regionalbus nach Frauenstein. Mit dem Auto fä
 hrt man die Autobahn&nbsp\;A4 bis Abfahrt Siebenlehn und weiter auf der B1
 01 über Freiberg nach Frauenstein.\n\nWer bis 18&nbsp\;Uhr vor Ort ist\, k
 ommt in den Genuss der oben beschriebenen Köstlichkeiten. Nach dem Abendbr
 ot gehen wir gemeinsam in den dunklen Wald und nehmen Schlitten mit (in de
 r JH zur Ausleihe vorhanden)… denn die JH organisiert im Winter jeden Frei
 tag ein Nachtrodeln mit Fackeln\, Glühwein und Kinderpunsch wenige hundert
  Meter hinterm Haus. Das lasst euch bitte nicht entgehen! (s.a.&nbsp\;Eind
 rücke von 2019 oder 2020)\n&nbsp\;\nAm Samstag heißt es dann „Auf die Bret
 ter“ – die Loipen verlaufen direkt vor dem Haus und wir werden wohl eine T
 our ins benachbarte Nassau machen – dem Austragungsort für das jährlich st
 attfindende Internationale Hundeschlittenrennen. Die Wege sind recht gut a
 usgeschildert und es gibt auch verschiedene Essensstände auf dem Nassauer 
 Hundeschlittenrennen. Eventuell sehen wir uns noch die (eine der vielen) S
 ilbermannorgel in Nassau an. In jedem Fall sollten wir bis zum Einbruch de
 r Dunkelheit wieder in der JH sein und können uns dort bei leckerstem Esse
 n und in gemütlicher Runde von den „Strapazen des Tages“ erholen. Ein Klav
 ier ist vorhanden und gerne können auch wieder weitere Musikinstrumente mi
 tgebracht werden. Außerdem gibt es in der JH die übliche Ausstattung mit T
 ischtennis und Kicker sowie diverse Gesellschaftsspiele. Die Getränkeverso
 rgung werden wir vor Ort besorgen und ob wir wieder in den legendären Bott
 ich steigen\, sehen wir noch.\nSonntag möchten wir entweder noch eine klei
 nere LL-Runde drehen\, die vorm Haus startet und gegen Mittag ebenda endet
  – oder\, für die\, die das nicht wollen\, bietet sich die Besichtigung de
 r Burgruine Frauenstein mit angrenzender (ehemaliger) Sprungschanze an – b
 is Mitte der 70er Jahre war Frauenstein auch ein alpines Skigebiet\, eben 
 wegen der 40m langen und 36 Grad steilen (Aufsprunghang) Skisprungschanze.
  Alternativ kann man auch das Heimatmuseum auf dem Marktplatz besichtigen.
  In jedem Fall werden wir noch Gelegenheit haben\, am Frauensteiner Markt 
 in die erstklassige Konditorei zu gehen\, um dort beispielsweise sächsisch
 en Käsekuchen zu essen\, bevor wir uns wieder auf den Heimweg machen.\nPre
 ise\n*) Die Preise für Kinder und Jugendliche sind durch den Verein gestüt
 zt/reduziert.Ein Reisekostenzuschuss kann beim Vorstand beantragt werden. 
  \n\n\n\n\n\nTN-Gruppe\nApricus\nGäste\n\n\n\n\nErwachsene (ab 14 J.)\, Me
 hrbettzimmer\n\n93\n103\n\n\nErwachsene (ab 14 J.)\, Doppelzimmer\n\n103\n
 113\n\n\nErwachsene (ab 14 J.)\, Einzelzimmer\n\n113\n123\n\n\nKinder (bis
  13 J.)*\, Mehrbettzimmer\n\n78\n82\n\n\nKinder (bis 13 J.)*\, Doppelzimme
 r\n\n88\n92\n\n\n\nDie Teilnehmerbeträge gelten für: 2x Übernachtung + Hal
 bpension (Frühstück und Abendessen)\, inklusive Kurtaxe und Bettwäsche. Ev
 entuelle Lunchpakete für mittags sowie Getränke und Knabberzeug für den Ab
 end kommen noch vor Ort dazu.\nDie An- und Abreise erfolgt individuell\, a
 uf eigene Kosten\; ein Fahrtkostenzuschuss für Kinder und Jugendliche kann
  beim Verein beantragt werden.\nHier noch die Adresse: Jugendherberge Frau
 enstein\, Walkmühlenstraße 13\, 09623 Frauenstein und der Link zur Website
  der JH Frauenstein.\nIn der JH besteht die Möglichkeit\, Skier (Langlauf 
 / Alpin) und Schlitten auszuleihen.\nAnmeldungen\n...bitte bis spätestens 
 Sonntag den 12.1.2025 an Michael Kraus: mkraus70 @yahoo.de oder unter der 
 0176 31330108.\nBitte bei der Anmeldung angeben\, ob ihr ein Doppel- oder 
 Einzelzimmer (mit Aufschlag!) haben möchtet. Wir versuchen das so zu beleg
 en\, es gibt aber keine Garantie!\nDie Teilnehmerzahl ist aus organisatori
 schen Gründen begrenzt\; es gilt das Prinzip: wer zuerst kommt\, mahlt zue
 rst.\nBitte beachten: Bei Fragen/Anmerkungen (zum Beispiel zur Zimmerbeleg
 ung)\, wendet euch bitte in erster Linie an Micha (Anruf\, WhatsApp\, oder
  Mail). Er wird alles sammeln und mit der JH absprechen. Bitte nicht im Al
 leingang an die Herberge wenden\, das fanden sie im letzten Jahr nicht so 
 gut. Bei ganz dringenden Fragen könnt ihr mich (Jana Schwedler) auch anruf
 en/“whatsappen“ unter 0179 1254553\, aber Micha ist erster Ansprechpartner
 .\nDie Anmeldungen gelten nur bei gleichzeitiger Einzahlung der Teilnehmer
 beiträge auf das{loadposition ap-kontodaten}\nIn Vorfreude auf ein schnee-
  und ereignisreiches Wochenende im Erzgebirge!Jana\n&nbsp\;
DTSTART:20250207T160000Z
DTEND:20250209T160000Z
GEO:00;0
LOCATION:Frauenstein
ORGANIZER:
SEQUENCE:1
SUMMARY:Winter(ski)wochenende Frauenstein
TRANSP:OPAQUE
URL:https://test.apricus-ev.de/component/icagenda/winter-ski-wochenende-fra
 uenstein-2?layout=vcal
END:VEVENT
END:VCALENDAR
