BEGIN:VCALENDAR
VERSION:2.0
PRODID:-//TEST Apricus e.V.//NONSGML kigkonsult.se iCalcreator 2.41.92//
CALSCALE:GREGORIAN
METHOD:PUBLISH
UID:33393739-3039-4664-b362-666232666334
X-WR-CALNAME:iCagenda
X-WR-CALDESC:Event Management Extension for Joomla!
X-WR-RELCALID:3E26604A-50F4-4449-8B3E-E4F4932D05B5
X-WR-TIMEZONE:Europe/Berlin
BEGIN:VTIMEZONE
TZID:Europe/Berlin
TZUNTIL:20251026T010000Z
BEGIN:STANDARD
TZNAME:CET
DTSTART:20231029T030000
TZOFFSETFROM:+0200
TZOFFSETTO:+0100
RDATE:20241027T030000
END:STANDARD
BEGIN:DAYLIGHT
TZNAME:CEST
DTSTART:20230326T020000
TZOFFSETFROM:+0100
TZOFFSETTO:+0200
RDATE:20240331T020000
RDATE:20250330T020000
END:DAYLIGHT
END:VTIMEZONE
BEGIN:VEVENT
UID:36383931-3035-4733-b363-306464373337
DTSTAMP:20260425T215229Z
CATEGORIES:Skilaufen\, Skaten
CLASS:PUBLIC
DESCRIPTION;ALTREP="CID:<FFFF__=0ABBE548DFE235B58f9e8a93d@coffeebean.com>":
 Liebe Freunde des Wintersports\,\nes verschlägt uns\, nun schon zum fünfte
 n Mal in Folge\, in das ausgemachte Skilanglaufgebiet Frauenstein-Nassau. 
 Dort werden wir von Freitag den 9.2. bis Sonntag den 11.2. in der Jugendhe
 rberge Frauenstein untergebracht sein. Dort erwartet uns wieder eine exzel
 lente Küche mit lokalen Spezialitäten wie erzgebirgische Kartoffelsuppe\, 
 Hefeklöße mit Heidelbeeren und Quarkkeulchen.\nAnreise: Eine mögliche Zugv
 erbindung ist freitags 14:26&nbsp\;Uhr ab Berlin (Hauptbahnhof) mit Umstei
 gen in Dresden und Freiberg und Ankunft in Frauenstein um 17:46&nbsp\;Uhr.
  Teilnehmer aus Leipzig könnten 15:22&nbsp\;Uhr über Chemnitz nach Freiber
 g fahren\, von dort mit dem Bus weiter und wären 17:17&nbsp\;Uhr da (der Z
 ug fährt auch 16:22&nbsp\;Uhr und 17:22&nbsp\;Uhr). Für Anreisende aus Han
 nover: 13:36&nbsp\;Uhr Abfahrt über Leipzig\, Chemnitz und Freiberg und An
 kunft 18:17&nbsp\;Uhr.\n\nMit dem Auto fährt man die Autobahn A4 bis Abfah
 rt Siebenlehn und weiter auf der B101 über Freiberg nach Frauenstein.\nWer
  erst später als 18&nbsp\;Uhr kommen kann\, meldet sich bitte\, dann versu
 chen wir bei der Jugendherberge noch ein Abendessen zu organisieren. Schne
 eabhängig und auch nach Personalausstattung bietet die Jugendherberge in d
 en Wintermonaten jeweils Freitagabend ein Nachtrodeln mit Fackeln im dunkl
 en Wald hinter dem Haus\, dazu Glühwein und Kinderpunsch. Die dazu benötig
 ten Schlitten können vor Ort ausgeliehen werden.\nAm Samstag heißt es dann
  „Auf die Bretter“ – die Loipen verlaufen direkt vor dem Haus und wir werd
 en eine Tour ins benachbarte Nassau machen. Unser Ziel ist das legendäre I
 nternationale Hundeschlittenrennen\, das einige bereits kennen. Auf der Se
 ite https://schlittenhunderennen-nassau.de/ kann man sich über das Event i
 nformieren und auch Bilder und ein Video von Rennen vergangener Jahre anse
 hen. Es ist jedenfalls ein Spektakel\, das es sich lohnt\, zu besuchen. Vo
 r Ort gibt es auch mehrere Imbiss-Stände.\nZum Abendbrot werden wir aber r
 echtzeitig wieder zurück sein und uns in gemütlicher Runde von den „Strapa
 zen des Tages“ erholen. Ein Klavier ist vorhanden und gerne können auch wi
 eder weitere Musikinstrumente mitgebracht werden. Außerdem gibt es in der 
 JH die übliche Ausstattung mit Tischtennis und Kicker sowie diverse Gesell
 schaftsspiele.\nDie Getränkeversorgung werde ich noch klären\, es wird auf
  jeden Fall was da sein für euch \;-)\n\nAm Sonntag möchten wir dann entwe
 der noch eine kleinere LL-Runde drehen\, die vorm Haus startet und gegen M
 ittag ebenda endet – oder\, für die\, die das nicht wollen\, bietet sich d
 ie Besichtigung der Burgruine Frauenstein mit angrenzender (ehemaliger) Sp
 rungschanze an – bis Mitte der 70er Jahre war Frauenstein auch ein alpines
  Skigebiet\, eben wegen der 40m langen und 36 Grad steilen (Aufsprunghang)
  Skisprungschanze.\nEbenso empfehlenswert ist das 2022 im neuen Domizil wi
 edereröffnete Heimatmuseum am Markt\, das nach dem in Frauenstein aufgewac
 hsenen Orgelbauern Gottfried Silbermann benannt ist\, dem auch ein Großtei
 l der Ausstellung gewidmet ist. Außerdem erfährt man im Museum einiges zu 
 Orgel- und Instrumentenbau sowie zur Stadt- und Burggeschichte.\nIn jedem 
 Fall werden wir noch Gelegenheit haben\, am Frauensteiner Markt in die ers
 tklassige Konditorei zu gehen um dort\, beispielsweise\, sächsischen Käsek
 uchen zu essen\, bevor wir uns wieder auf den Heimweg machen.\nPreise\n*) 
 Die Preise für Kinder und Jugendliche sind durch den Verein gestützt/reduz
 iert.Ein Reisekostenzuschuss kann beim Vorstand beantragt werden.  \n\n\n
 \n\n\nTN-Gruppe\nApricus\nGäste\n\n\n\n\nErwachsene (Gruppenpreis)\, sowie
 Schüler/Studierende bis einschl. 26 J.\n\n88\n98\n\n\nKinder bis 13 J. *\n
 \n66\n70\n\n\nKinder unter 2 J. *\n\n0\n0\n\n\n\n\nDie Teilnehmerbeträge g
 elten für: 2x Übernachtung + Halbpension (Frühstück und Abendessen)\, inkl
 usive Kurtaxe\, Bettwäsche. Eventuell kommt noch ein Lunchpaket für mittag
 s und Getränke für den Abend sowie der Sprung in den Badezuber dazu. An- u
 nd Abreise erfolgt individuell und auf eigene Kosten.\nAnmeldungen ab sofo
 rt bis spätestens 12.1. 2024 an:jana_schwedler@yahoo.de\, Tel./Whatsapp: 0
 1791254553.\nDie Teilnahmerzahl ist aus organisatorischen Gründen auf 14 b
 egrenzt. Bitte teilt mir gleich mit\, ob es Präferenzen mit der Zimmerbele
 gung gibt (Einzelzimmer-/Doppelzimmerzuschlag: 5 bzw. 10&nbsp\;Euro p.Ps./
 Nacht).\nHier noch die Adresse: Jugendherberge Frauenstein\, Walkmühlenstr
 aße 13\, 09623 Frauenstein und der Link zur Website der JH Frauenstein.\nI
 n der Jugendherberge besteht die Möglichkeit\, Skier (Langlauf und Alpin) 
 oder Schlitten auszuleihen.\nJana
DTSTART:20240209T160000Z
DTEND:20240211T160000Z
GEO:00;0
LOCATION:Frauenstein
ORGANIZER:
SEQUENCE:1
SUMMARY:Winter(ski)wochenende Frauenstein
TRANSP:OPAQUE
URL:https://test.apricus-ev.de/component/icagenda/winter-ski-wochenende-fra
 uenstein?layout=vcal
END:VEVENT
END:VCALENDAR
