BEGIN:VCALENDAR
VERSION:2.0
PRODID:-//TEST Apricus e.V.//NONSGML kigkonsult.se iCalcreator 2.41.92//
CALSCALE:GREGORIAN
METHOD:PUBLISH
UID:35653138-3761-4665-a466-373735666331
X-WR-CALNAME:iCagenda
X-WR-CALDESC:Event Management Extension for Joomla!
X-WR-RELCALID:3E26604A-50F4-4449-8B3E-E4F4932D05B5
X-WR-TIMEZONE:Europe/Berlin
BEGIN:VTIMEZONE
TZID:Europe/Berlin
TZUNTIL:20221030T010000Z
BEGIN:STANDARD
TZNAME:CET
DTSTART:20201025T030000
TZOFFSETFROM:+0200
TZOFFSETTO:+0100
RDATE:20211031T030000
END:STANDARD
BEGIN:DAYLIGHT
TZNAME:CEST
DTSTART:20200329T020000
TZOFFSETFROM:+0100
TZOFFSETTO:+0200
RDATE:20210328T020000
RDATE:20220327T020000
END:DAYLIGHT
END:VTIMEZONE
BEGIN:VEVENT
UID:30633863-3362-4963-b063-316262666237
DTSTAMP:20260425T215229Z
CATEGORIES:Absage bzw. Verschiebung
CLASS:PUBLIC
DESCRIPTION;ALTREP="CID:<FFFF__=0ABBE548DFE235B58f9e8a93d@coffeebean.com>":
 Liebe schnee- und winterbegeisterte Apricüsse\,am kommenden Wochenende (29
 .-31. Januar) war wieder - wie auch schon in 2019 und 2020 - geplant\, im 
 schönen osterzgebirgischen Frauenstein zum gemeinsamen Skifahren\, Winterw
 andern und Nachtrodeln zusammenzukommen.\nSicher habt ihr es schon geahnt\
 , dass auch diese Apricus-Veranstaltung Corona zum Opfer fällt. Es tut mir
  ausgesprochen leid\, das Frauenstein-Wochenende 2021 nicht durchführen zu
  können. Merkt euch aber jetzt schon einmal den Termin Ende Januar/Anfang 
 Februar 2022 vor\, da biete ich diese mittlerweile traditionelle Veranstal
 tung wieder an!\nHier könnt ihr euch Fotos von Frauenstein im Januar 2020 
 ansehen - weil nicht genug Schnee lag\, konnten wir nicht Skifahren und wa
 ren statt dessen im Grimnitztal wandern und im Badezuber der Jugendherberg
 e open-air-baden: zur Bildergalerie Frauenstein 2020.\nAußerdem hat uns di
 e Jugendherberge aktuelle Fotos von Frauenstein zur Verfügung gestellt unt
 er dem Motto: 'Da ihr nicht zu uns dürft\, kommen wir halt zu euch\, zumin
 dest mit Bildern':\nWie ihr sehen könnt\, gibt es momentan ohne Ende Schne
 e und auch Sonne dazu! Was man auch gut sehen kann: die Region und die Jug
 endherberge sind immer eine Reise wert\, ob schönstes Winterwetter oder fü
 r Wanderungen im Herbst/Frühling!\nIch bleibe jedenfalls optimistisch\, da
 ss wir dorthin noch einmal zurückkehren werden und bis dahin wünsche ich e
 uch nur das Beste. Bleibt gesund und hoffnungsfroh gestimmt!\nJana
DTSTART:20210129T160000Z
DTEND:20210131T160000Z
GEO:00;0
LOCATION:
ORGANIZER:
SEQUENCE:1
SUMMARY:Winter-/Skiwochenende in Frauenstein
TRANSP:OPAQUE
URL:https://test.apricus-ev.de/component/icagenda/winter-skiwochenende-in-f
 rauenstein?layout=vcal
END:VEVENT
END:VCALENDAR
