BEGIN:VCALENDAR
VERSION:2.0
PRODID:-//TEST Apricus e.V.//NONSGML kigkonsult.se iCalcreator 2.41.92//
CALSCALE:GREGORIAN
METHOD:PUBLISH
UID:64386538-3064-4164-a662-373365326537
X-WR-CALNAME:iCagenda
X-WR-CALDESC:Event Management Extension for Joomla!
X-WR-RELCALID:3E26604A-50F4-4449-8B3E-E4F4932D05B5
X-WR-TIMEZONE:Europe/Berlin
BEGIN:VTIMEZONE
TZID:Europe/Berlin
TZUNTIL:20221030T010000Z
BEGIN:STANDARD
TZNAME:CET
DTSTART:20201025T030000
TZOFFSETFROM:+0200
TZOFFSETTO:+0100
RDATE:20211031T030000
END:STANDARD
BEGIN:DAYLIGHT
TZNAME:CEST
DTSTART:20200329T020000
TZOFFSETFROM:+0100
TZOFFSETTO:+0200
RDATE:20210328T020000
RDATE:20220327T020000
END:DAYLIGHT
END:VTIMEZONE
BEGIN:VEVENT
UID:65376231-6161-4138-b166-636237383661
DTSTAMP:20260425T214127Z
CATEGORIES:Absage bzw. Verschiebung
CLASS:PUBLIC
DESCRIPTION;ALTREP="CID:<FFFF__=0ABBE548DFE235B58f9e8a93d@coffeebean.com>":
 Liebe Apricusse\,\nauch wenn der Januar schon fortgeschritten ist\, möchte
  ich Euch allen noch ein schönes\, ereignisreiches\, wieder geselligeres u
 nd natürlich gesundes 2021 wünschen!\nAm kommenden Sonntag (als 1. Versuch
 ) sollte ja die Fläming-(Ski-)Wander stattfinden\, die aus bekannten Gründ
 en (nicht nur Corona...\, auch mangels Schnee vermutlich) zunächst verscho
 ben wird. Aber man soll die Hoffnung ja nicht begraben...\nZwar hatte ich 
 schon überlegt\, die Tour vorzuziehen\, aber beide Aspekte (s.o) haben mic
 h nicht überzeugt. Die Langfristvorhersage macht mir aber noch halbwegs Mu
 t\, also viell. klappt es ja noch im Februar!?\nLiebe Grüße\,Andreas\n\nNi
 chtsdestotrotz konnte ich schon einige schöne Skitouren drehen! Z.B. vorig
 en Sonntag im Harz bei Drei Annen Hohne (der Parkplatz war noch gut gefüll
 t\, auf der Loipe haben wir uns dann echt einsam gefühlt) oder am vergange
 nen WE mehrere schöne Touren durch den Fläming (Nähe Senst / Berkau / Hirs
 eberg 188\,5m)\, für unsere Verhältnisse super Bedingungen\, teilweise bis
  etwa 20 cm Schnee! Und das alles ohne Probleme mit unserem 15-km-Radius\,
  Coswig ist groß! Am 03.01. hätte man dagegen schon in der Dübener Heide g
 erade so fahren können. Problem dabei meistens: die passenden Ecken sind i
 .a. nicht oder schlecht mit öffentlichen Verkehrsmitteln zu erreichen.
DTSTART:20210124T090000Z
DTEND:20210124T170000Z
GEO:00;0
LOCATION:
ORGANIZER:
SEQUENCE:1
SUMMARY:Winterwanderung im Fläming
TRANSP:OPAQUE
URL:https://test.apricus-ev.de/component/icagenda/winterwanderung-im-flaemi
 ng?layout=vcal
END:VEVENT
END:VCALENDAR
