BEGIN:VCALENDAR
VERSION:2.0
PRODID:-//TEST Apricus e.V.//NONSGML kigkonsult.se iCalcreator 2.41.92//
CALSCALE:GREGORIAN
METHOD:PUBLISH
UID:30643130-3666-4936-b331-306238373964
X-WR-CALNAME:iCagenda
X-WR-CALDESC:Event Management Extension for Joomla!
X-WR-RELCALID:3E26604A-50F4-4449-8B3E-E4F4932D05B5
X-WR-TIMEZONE:Europe/Berlin
BEGIN:VTIMEZONE
TZID:Europe/Berlin
TZUNTIL:20241027T010000Z
BEGIN:STANDARD
TZNAME:CET
DTSTART:20221030T030000
TZOFFSETFROM:+0200
TZOFFSETTO:+0100
RDATE:20231029T030000
END:STANDARD
BEGIN:DAYLIGHT
TZNAME:CEST
DTSTART:20220327T020000
TZOFFSETFROM:+0100
TZOFFSETTO:+0200
RDATE:20230326T020000
RDATE:20240331T020000
END:DAYLIGHT
END:VTIMEZONE
BEGIN:VEVENT
UID:66626365-3261-4966-b265-383866316464
DTSTAMP:20260425T213427Z
CATEGORIES:Skilaufen\, Skaten
CLASS:PUBLIC
DESCRIPTION;ALTREP="CID:<FFFF__=0ABBE548DFE235B58f9e8a93d@coffeebean.com>":
 Schnee oder kein Schnee\, das ist hier die Frage...\nWie schon in den letz
 ten Jahren wollen wir auch am Ende des Winters 2023 nochmal den Schnee suc
 hen. In der Hoffnung\, dass die weiße Pracht bis dahin liegen bleibt\, geh
 en wir vom 3.&nbsp\;bis 5.&nbsp\;März auf Wintertour im Thüringer Wald. Wi
 e winterlich es wird\, wissen wir noch nicht. In den vergangenen Tagen sch
 ien sich ja der bisher so lasche Winter doch noch seiner Ehre zu erinnern 
 und ließ Frau und Herrn Holle noch ein paar Flocken aus ihren Schlafsäcken
  schütteln. Bleibt es dabei\, nehmen wir die Ski mit. Wenn nicht\, gehen w
 ir eben ohne die Bretter\, die den Winterwald bedeuten. Auf jeden Fall dab
 ei haben solltet ihr aber einen warmen Schlafsack\, Isomatte und Zelte\, g
 ern können wir auch Zeltgemeinschaften vermitteln. Für einen heißen Tee od
 er eine Suppe wären Kocher auch ganz gut. Ihr ahnt es schon - wir schlafen
  draußen im 1000-Sterne-Hotel.\nSowohl der genaue Treffpunkt als auch die 
 Route werden aufgrund der Schneelage kurzfristig festgelegt\, um möglichst
  winterliche Bedingungen zu ermöglichen. Voraussichtlich werden wir am Fre
 itag zwischen 20&nbsp\;und 21&nbsp\;Uhr in Oberhof losgehen (Anreise z.B. 
 per Zug&nbsp\;/ Bus von Erfurt 19:35&nbsp\;Uhr). Genauere Infos zu Ort\, Z
 eit und Ski oder Nicht-Ski gibt es am Mittwochabend (1.3.). Gebt uns desha
 lb bitte Bescheid\, wie wir euch erreichen können (Email/Telefon/Telegram/
 WazAb). Keine Ski zu haben zählt übrigens nicht als Ausrede: Wenn wir vorh
 er Bescheid wissen\, besorgen wir welche. Und wer Anfänger ist\, bekommt d
 as Skifahren beigebracht. Das hat in den letzten Jahren gut geklappt.\nVer
 pflegung? Keine oder ihr bringt euch selber was mit.\nTeilnehmerbeitrag: A
 pricus-Mitglieder zahlen 1€ pro Veranstaltungtag (Sa.&nbsp\;+ So) - Gäste 
 zahlen 2€ pro Veranstaltungstag (enthält 1€/Tag für die Sportversicherung)
 \, also 2€ bzw. 4€ für die gesamte Veranstaltung. Wer das Rennsteiglied vo
 rsingen kann und das auch tut\, bekommt 50% erlassen.\nNoch Fragen? Dann f
 ragen!\ncom@uni-jena.de oder01577 - 8306406\nWir freuen uns auf eine schön
 e Wintertour mit euch über die höchsten Gipfel des Thüringer Waldes und au
 f kuschlige Abende bei Kerzenschein oder Lagerfeuer.Aziza + Osama
DTSTART:20230303T160000Z
DTEND:20230305T160000Z
GEO:00;0
LOCATION:
ORGANIZER:
SEQUENCE:1
SUMMARY:Winterwanderung in Thüringen
TRANSP:OPAQUE
URL:https://test.apricus-ev.de/component/icagenda/winterwanderung-in-thueri
 ngen?layout=vcal
END:VEVENT
END:VCALENDAR
