BEGIN:VCALENDAR
VERSION:2.0
PRODID:-//TEST Apricus e.V.//NONSGML kigkonsult.se iCalcreator 2.41.92//
CALSCALE:GREGORIAN
METHOD:PUBLISH
UID:62386336-6632-4431-b665-333538373139
X-WR-CALNAME:iCagenda
X-WR-CALDESC:Event Management Extension for Joomla!
X-WR-RELCALID:3E26604A-50F4-4449-8B3E-E4F4932D05B5
X-WR-TIMEZONE:Europe/Berlin
BEGIN:VTIMEZONE
TZID:Europe/Berlin
TZUNTIL:20260329T010000Z
BEGIN:STANDARD
TZNAME:CET
DTSTART:20231029T030000
TZOFFSETFROM:+0200
TZOFFSETTO:+0100
RDATE:20241027T030000
RDATE:20251026T030000
END:STANDARD
BEGIN:DAYLIGHT
TZNAME:CEST
DTSTART:20240331T020000
TZOFFSETFROM:+0100
TZOFFSETTO:+0200
RDATE:20250330T020000
END:DAYLIGHT
END:VTIMEZONE
BEGIN:VEVENT
UID:31363661-6636-4330-b861-306562613362
DTSTAMP:20260425T213432Z
CATEGORIES:Paddeln\, Rudern
CLASS:PUBLIC
DESCRIPTION;ALTREP="CID:<FFFF__=0ABBE548DFE235B58f9e8a93d@coffeebean.com>":
 Liebe Apricusse\,\nAm ersten Juli-Wochenende lade ich Euch nach Leipzig zu
  2 interessanten Paddeltouren ein. Leipzig hat zwar keinen großen Fluss\, 
 aber mehrere kleine\, wie die Weiße Elster\, die Pleiße\, die Parthe\, die
  Rietschke und einige mehr - sowie viele Meter künstliche Wasserwege. Dies
 e wurden im 19.&nbsp\;Jahrhundert von Karl Heine und anderen Großindustrie
 llen angelegt\, um ihre Waren besser und zügiger transportieren zu können.
 \nLetztlich hat Leipzig mehr Brücken als Venedig. Außerdem ist Leipzig ein
 e der grünsten Großstädte Deutschlands\, sodass die Wasserwege zum großen 
 Teil im Grünen verlaufen. Auf 2 Touren werden wir Leipzigs Wasser erkunden
 :\nSamstag:\nTreffpunkt ist der Bootsverleih am Wildpark. (nahe der Haltes
 telle Koburger Brücke\, Linie 70) um 10:30&nbsp\;Uhr.\nVon hier aus paddel
 n wir mit Kanadiern durch den Floßgraben\, welcher durch den südlichen Aue
 nwald führt und der besonderen Schutz erfährt\, weil hier der Eisvogel brü
 tet. Der Graben endet im Lauerschen See und durch diesen gelangen wir in d
 en Cospudener See\, den wir überfahren und am Hafen einkehren. Der Rückweg
  führt uns dann über die Weiße Elster und durch städtische Gewässer.\nSonn
 tag:\nTreffpunkt 1: 08:30&nbsp\;Uhr\, Haltestelle Angerbrücke stadtauswärt
 sAbfahrt Bus 74 in Richtung Südvorstadt um 08:39 Uhr.\nTreffpunkt 2: 09:05
 &nbsp\;Uhr\, Haltestelle Kurt-Eisner-/Karl-Liebknecht-Straße stadtauswärts
 Abfahrt Linie 11 in Richtung Markleeberg um 09:13&nbsp\;Uhr.\nHeute fahren
  wir mal ein Stück über den Markleeberger und ein größeres Stück über den 
 Störmthaler See. Höhepunkt dabei ist der Besuch der 'Vineta' mitten auf de
 m See. Sie symbolisiert die verlorene Magdeborner Kirche und ist Mahnmal f
 ür die Orte\, die dem Espenhainer Braunkohletagebau weichen mussten. Darau
 s entstanden der heutige Störmthaler und Markkleeberger See.\nIm&nbsp\;ste
 tig wachsenden Leipziger Neuseenland betreibt das Krystallpalast-Varieté s
 eit Juni 2011 die Vineta - diesen außergewöhnlichen\, schwimmenden Veranst
 altungsort im Leipziger Süden. Mit einer Traufhöhe von 15 Metern gilt die 
 Vineta derzeit als höchstes schwimmendes Bauwerk auf einem deutschen See. 
 Im Vineta-Bistro werden auf einem großen\, windgeschützten Freisitz Speise
 n\, Getränke und Eis angeboten. Wenn noch Zeit genug bleibt\, lohnt sich a
 uch ein Besuch des Cafés im Pfarrhaus in Störmthal.\nKosten:\nEs handelt s
 ich um 2 Tagestouren und die Kosten für die Boote werden vor Ort entrichte
 t\, wie sie entstehen. Gäste zahlen zusätzlich pro Tag 1&nbsp\;€ Versicher
 ungsbeitrag.\nÜbernachtung(en)\nDiese organisiere ich privat und in dem kl
 einen Hostel 'Blauer Stern' bei mir um die Ecke. Je nachdem wie viele sich
  (an)-melden\, teilen wir dann die anfallenden Übernachtungskosten fair.\n
 Wer bereits Freitag anreisen möchte\, sagt bitte Bescheid.\nVerbindliche A
 nmeldungen...\n....bitte bei mkraus70@yahoo.de oder unter 0176-31330108.Es
  ist keine spontane Teilnahme möglich\, weil die Boote reserviert werden m
 üssen.\nBis Anfang Juli dann auf Leipzigs Wassern!Der Micha
DTSTART:20240706T070000Z
DTEND:20240707T160000Z
GEO:00;0
LOCATION:
ORGANIZER:
SEQUENCE:1
SUMMARY:Wochenendpaddeln im Raum Leipzig
TRANSP:OPAQUE
URL:https://test.apricus-ev.de/component/icagenda/wochenendpaddeln-raum-lei
 pzig?layout=vcal
END:VEVENT
END:VCALENDAR
