BEGIN:VCALENDAR
VERSION:2.0
PRODID:-//TEST Apricus e.V.//NONSGML kigkonsult.se iCalcreator 2.41.92//
CALSCALE:GREGORIAN
METHOD:PUBLISH
UID:63666366-3730-4166-a330-323466643364
X-WR-CALNAME:iCagenda
X-WR-CALDESC:Event Management Extension for Joomla!
X-WR-RELCALID:3E26604A-50F4-4449-8B3E-E4F4932D05B5
X-WR-TIMEZONE:Europe/Berlin
BEGIN:VTIMEZONE
TZID:Europe/Berlin
TZUNTIL:20271031T010000Z
BEGIN:STANDARD
TZNAME:CET
DTSTART:20241027T030000
TZOFFSETFROM:+0200
TZOFFSETTO:+0100
RDATE:20251026T030000
RDATE:20261025T030000
END:STANDARD
BEGIN:DAYLIGHT
TZNAME:CEST
DTSTART:20250330T020000
TZOFFSETFROM:+0100
TZOFFSETTO:+0200
RDATE:20260329T020000
RDATE:20270328T020000
END:DAYLIGHT
END:VTIMEZONE
BEGIN:VEVENT
UID:64313064-3563-4361-a664-643164626234
DTSTAMP:20260425T221203Z
CATEGORIES:Radfahren
CLASS:PUBLIC
DESCRIPTION;ALTREP="CID:<FFFF__=0ABBE548DFE235B58f9e8a93d@coffeebean.com>":
 Hallo zusammen\,\nAm Freitag den 26.&nbsp\;September 2025 ab 18:30 Uhr fin
 det in Dresden wieder die Radnacht statt. Wir möchten dabei sein und werde
 n dazu ab Leipzig direkt hinradeln.\nStart ist an der ADFC-Geschäftsstelle
 \, Ranstädter Steinweg 1.\nWir fahren um 10:00&nbsp\;Uhr los\, machen in L
 ommatsch Pause und stoßen gegen 17:00&nbsp\;Uhr in Coswig bei Dresden an d
 er Karrasburg zum dortigen Zubringer dazu.\nBis Coswig sind es 107&nbsp\;k
 m und bis Dresden dann nochmal 41&nbsp\;km. Hinzu kommen dann die paar Kil
 ometer der eigentlichen Radnacht-Runde. Ich denke\, wir werden einen 20er-
 Schnitt netto fahren.\nZurück nach Leipzig würden wir mit dem RE 22:15&nbs
 p\;Uhr ab Dresden Hbf fahren (zur Not gibt es auch noch einen RE um 23:15 
 Uhr).\nAlso\, wer hat Lust und Zeit auf eine sportliche früh-herbstliche R
 adelei nach und in Dresden? Dann meldet Euch bitte bei mir unter michael.k
 raus@adfc-leipzig.de oder 0176 31330108.\nBeste GrüßeDer Micha
DTSTART:20250926T080000Z
DTEND:20250926T201500Z
GEO:00;0
LOCATION:
ORGANIZER:
SEQUENCE:1
SUMMARY:Zubringer zur Radnacht Dresden
TRANSP:OPAQUE
URL:https://test.apricus-ev.de/component/icagenda/zubringer-zur-radnacht-dr
 esden?layout=vcal
END:VEVENT
END:VCALENDAR
