BEGIN:VCALENDAR
VERSION:2.0
PRODID:-//TEST Apricus e.V.//NONSGML kigkonsult.se iCalcreator 2.41.92//
CALSCALE:GREGORIAN
METHOD:PUBLISH
UID:63393437-6662-4134-b561-383865343039
X-WR-CALNAME:iCagenda
X-WR-CALDESC:Event Management Extension for Joomla!
X-WR-RELCALID:3E26604A-50F4-4449-8B3E-E4F4932D05B5
X-WR-TIMEZONE:Europe/Berlin
BEGIN:VTIMEZONE
TZID:Europe/Berlin
TZUNTIL:20231029T010000Z
BEGIN:STANDARD
TZNAME:CET
DTSTART:20211031T030000
TZOFFSETFROM:+0200
TZOFFSETTO:+0100
RDATE:20221030T030000
END:STANDARD
BEGIN:DAYLIGHT
TZNAME:CEST
DTSTART:20210328T020000
TZOFFSETFROM:+0100
TZOFFSETTO:+0200
RDATE:20220327T020000
RDATE:20230326T020000
END:DAYLIGHT
END:VTIMEZONE
BEGIN:VEVENT
UID:62643565-3366-4063-b366-333432393363
DTSTAMP:20260426T003730Z
CATEGORIES:Wandern
CLASS:PUBLIC
DESCRIPTION;ALTREP="CID:<FFFF__=0ABBE548DFE235B58f9e8a93d@coffeebean.com>":
 Der Erlebnissportverband „Apricus“ e.V. lädt ein zur Weihnachtsmarktwander
 ung von Griebo über die Waldweihnacht Möllensdorf zum Coswiger Weihnachtsm
 arkt der Vereine am 12.12.2021\nWir versuchen es jetzt mal mit Optimismus\
 , obwohl die Vorzeichen bereits wieder schlechter sind. Von daher ist die 
 Wanderung vorbehaltlich der dann tatsächlichen Machbarkeit. Schlimmstenfal
 ls müssen wir wieder in erlaubten Kleingruppen auf Sicht wandern und schli
 mmstenfalls müssen wir uns wieder auf Picknick im Kalten einrichten\, soll
 ten die Weihnachtsmärkte erneut wegen Corona ausfallen...\nDie Wanderung h
 atten wir bereits letztes Jahr vor\, allerdings machte da der Lockdown uns
  den Strich durch die Rechnung. Dieses Jahr versuchen wir es erneut – wenn
  wir denn dürfen – als geführte Wanderung für jedermann.\nStart ist am Bah
 nhof Griebo an den dortigen Schranken. Treffpunkt ist 10:30&nbsp\;Uhr - de
 r von Coswig kommende Zug wird abgewartet bzw. bringt alle von Coswig Star
 tenden mit. Auch hier bleibt natürlich zu hoffen\, dass die Bahn ihr Ziel 
 schafft\, ab diesem Tag wieder normal zu fahren. Bitte daher auch die Ankü
 ndigungen der Bahn beachten.\n\nVom Bahnhof Griebo aus wandern wir durch d
 ie Siedlung zum Grieboer Bach\, dem wir dann bachaufwärts auf wunderschöne
 m Pfad folgen\, bis wir das Gelände des Waldweihnachtsmarktes Möllensdorf 
 erreichen.\nHier gibt es eine Pause für den individuellen Bummel über den 
 Markt und zur Stärkung\, bevor wir uns erneut zusammenfinden\, um über den
  Lutherstein und vorbei am Hubertusberg auf den Bismarckstieg zu kommen. D
 iesen wandern wir dann nach Coswig zurück. In der weihnachtlich geschmückt
 en Friederikenstraße lassen wir anschließend (hoffentlich) die Wanderung g
 emütlich auf dem Coswiger Adventsmarkt ausklingen\, den die Stadt Coswig g
 emeinsam mit den Vereinen und Gewerbetreibenden an diesem Nachmittag ausri
 chtet.\nDie Wanderstrecke ist ca. 15&nbsp\;km lang (1&nbsp\;km Bummel über
  den Möllensdorfer Markt schon eingerechnet).\nEine Anmeldung bis 10.12.20
 21 wäre schön\, aber wir nehmen auch kurzfristig entschlossene Teilnehmer 
 mit. (Ihr solltet vorher die amtlichen Bedingungen für die Durchführung be
 im Landkreis Wittenberg erfragen und Euc darauf einstellen - es wird keine
  Testmöglichkeit am Start geben können).\nGäste zahlen die üblichen 1&nbsp
 \;€ für die Sportunfallversicherung vor Ort\, sonst entstehen keine weiter
 en Kosten. Den Verzehr auf den Weihnachtsmärkten zahlt natürlich jeder sel
 bst.\nAnmeldung bei Torsten Hammer\, Telefon: 034903/189761 (auch AB nutze
 n) bzw.&nbsp\;thapricus@aol.com
DTSTART:20211212T093000Z
DTEND:20211212T170000Z
GEO:00;0
LOCATION:
ORGANIZER:
SEQUENCE:1
SUMMARY:Vorweihnachtliche Wanderung am 3. Advent
TRANSP:OPAQUE
URL:https://test.apricus-ev.de/component/icagenda/zur-waldweihnacht-in-moel
 lensdorf-2?layout=vcal
END:VEVENT
END:VCALENDAR
