BEGIN:VCALENDAR
VERSION:2.0
PRODID:-//TEST Apricus e.V.//NONSGML kigkonsult.se iCalcreator 2.41.92//
CALSCALE:GREGORIAN
METHOD:PUBLISH
UID:30373036-6436-4231-a365-346264373765
X-WR-CALNAME:iCagenda
X-WR-CALDESC:Event Management Extension for Joomla!
X-WR-RELCALID:3E26604A-50F4-4449-8B3E-E4F4932D05B5
X-WR-TIMEZONE:Europe/Berlin
BEGIN:VTIMEZONE
TZID:Europe/Berlin
TZUNTIL:20221030T010000Z
BEGIN:STANDARD
TZNAME:CET
DTSTART:20201025T030000
TZOFFSETFROM:+0200
TZOFFSETTO:+0100
RDATE:20211031T030000
END:STANDARD
BEGIN:DAYLIGHT
TZNAME:CEST
DTSTART:20200329T020000
TZOFFSETFROM:+0100
TZOFFSETTO:+0200
RDATE:20210328T020000
RDATE:20220327T020000
END:DAYLIGHT
END:VTIMEZONE
BEGIN:VEVENT
UID:65376563-3965-4931-b865-656231353561
DTSTAMP:20260425T215225Z
CATEGORIES:Wandern
CLASS:PUBLIC
DESCRIPTION;ALTREP="CID:<FFFF__=0ABBE548DFE235B58f9e8a93d@coffeebean.com>":
 Mit Apricus in den Frühling – zwei Tagesangebote der Regionalgruppe Coswig
 &nbsp\;/ Wittenberg\, Teil 2\nWie auf der Seite zur Radtour schon ausführl
 icher dargestellt\, gibt es für den Fall\, dass wir auf den jeweiligen Str
 ecken nur allein\, zu zweit oder in Kleingruppe unterwegs sein dürfen\, ei
 nen Plan B. Dabei gilt: beide Aktivitäten dürfen an beiden Tagen auch unab
 hängig gemacht werden\, sprich zeitiger oder später auf die Strecke gehen 
 oder auch Samstag wandern\, Sonntag radeln.\nBei Anmeldung (s.u.) erhaltet
  ihr Streckenkarte und Beschreibung als PDF per Mail. Entlang der Strecke 
 wird es jeweils vier Kontrollpunkte geben\, an denen ihr euch eintragen mü
 sstet (Stift nicht vergessen!). Der letzte Kontrollpunkt ist die Gaststätt
 e Waldschlößchen in Klieken\, die auch Essen zum Mitnehmen bietet - auch h
 ierzu sei auf die Beschreibung der Radtour verwiesen.\nWildgänse auf dem D
 urchzug\nNun aber zum Wichtigsten: Was erwartet uns auf der Ratour bzw. de
 r Wanderung?\nAuf jeden Fall sicher viele Tierbeobachtungen in ruhiger und
  schöner Natur bzw. gestalteten Landschaften des Dessau-Wörlitzer Gartenre
 iches\, vor allem viele große Vögel sind zu finden\, die Kraniche dürften 
 dann zurück sein\, vielleicht sogar erste Störche\, dazu jede Menge Enten 
 und Gänse\, Kormorane\, diverse Reiher und Raubvögel. Aber auch Biber\, Nu
 tria\, Rehwild und mehr werden sich vielleicht zeigen\, wenn wir aufmerksa
 m und leise sind...\nDazu jede Menge Frühjahrsblüher? Die Märzenbecher am 
 Kapenschlößchen sind allein schon eine Augenweide...\nDie Wanderung...\n..
 .beginnt und endet am Bahnhof Klieken. Zunächst geht es ein paar Meter nac
 h Norden\, ehe wir an den Rand des Klosterforstes Klieken kommen. Hier sin
 d wir in der typischen Sanderlandschaft des Hohen Flämings. Nach der Überq
 uerung der B187 nahe der Kieselgur kommen wir in die Nähe des Saarensees. 
 Der Saarensee war der erste Ort\, wo es mir als Kind gelang\, Biber zu beo
 bachten\, heute ist er Totalreservat und wir dürfen nur vom Weiten gucken 
 und das Gelände dort nicht betreten. Aber zu der Jahreszeit haben wir noch
  kein so hohes Grün und wir entdecken den versteckt gelegenen See.\nDer Bl
 ick auf die Alte Elbe beim Matzwerder ist dann zum Glück deutlich freier\,
  auch wenn wir hier genauso nicht die Wege verlassen dürfen\, denn die Ufe
 rzone und das Gewässer ist ebenfalls Kernzone des Biosphärenreservates. Be
 i all zu starkem Hochwasser kann es sogar sein\, dass wir hier abkürzen mü
 ssen\, was schade wäre. Die Info dazu ergeht dann kurzfristigst.\nBeim alt
 en Schöpfwerk haben wir ebenso schöne Blicke in die Elbauen und auch beim 
 Wallwachhaus lohnt es noch einmal\, den Deich zu erklimmen\, um darüber bl
 icke zu können.\nOrganisatorisches\nFür den Fall\, dass Sport im Freien in
  Grüppchen möglich ist\, gilt folgender Treffpunkt für die Wanderung:\n\n1
 4.3.2021\, 10:40 Uhr vor dem alten Bahnhofsgebäude in Klieken(das ankommen
 de Zugpaar aus Dessau / Wittenberg wird abgewartet.)\n\nAnmeldung...\n...f
 ür beide Veranstaltungen – verbindlich bis spätestens 10.03.2021 bei Torst
 en Hammer\, Telefon 034903&nbsp\;/ 189761 (auch AB nutzen)\, per Mail: tha
 pricus@aol.com oder als PN über meinen FB-Account.
DTSTART:20210314T090000Z
DTEND:20210314T170000Z
GEO:00;0
LOCATION:Klieken\, Coswig (Anhalt)
ORGANIZER:
SEQUENCE:1
SUMMARY:Wanderung durch die Kliekener Aue
TRANSP:OPAQUE
URL:https://test.apricus-ev.de/termine/106-wanderung-durch-die-kliekener-au
 e?layout=vcal
END:VEVENT
END:VCALENDAR
