BEGIN:VCALENDAR
VERSION:2.0
PRODID:-//TEST Apricus e.V.//NONSGML kigkonsult.se iCalcreator 2.41.92//
CALSCALE:GREGORIAN
METHOD:PUBLISH
UID:64666666-3631-4237-b434-306238643538
X-WR-CALNAME:iCagenda
X-WR-CALDESC:Event Management Extension for Joomla!
X-WR-RELCALID:3E26604A-50F4-4449-8B3E-E4F4932D05B5
X-WR-TIMEZONE:Europe/Berlin
BEGIN:VTIMEZONE
TZID:Europe/Berlin
TZUNTIL:20240331T010000Z
BEGIN:STANDARD
TZNAME:CET
DTSTART:20211031T030000
TZOFFSETFROM:+0200
TZOFFSETTO:+0100
RDATE:20221030T030000
RDATE:20231029T030000
END:STANDARD
BEGIN:DAYLIGHT
TZNAME:CEST
DTSTART:20220327T020000
TZOFFSETFROM:+0100
TZOFFSETTO:+0200
RDATE:20230326T020000
END:DAYLIGHT
END:VTIMEZONE
BEGIN:VEVENT
UID:36623437-6661-4037-b939-663937343335
DTSTAMP:20260425T232740Z
CATEGORIES:Treffen
CLASS:PUBLIC
DESCRIPTION;ALTREP="CID:<FFFF__=0ABBE548DFE235B58f9e8a93d@coffeebean.com>":
 Terminangabe vorläufig (Datum für ADFC-Sternfahrt und Umweltfest noch nich
 t bekannt)
DTSTART:20220612T080000Z
DTEND:20220612T170000Z
GEO:00;0
LOCATION:Berlin
ORGANIZER:
SEQUENCE:1
SUMMARY:Berliner Umweltfest mit Apricus-Präsentation
TRANSP:OPAQUE
URL:https://test.apricus-ev.de/termine/138-berliner-umweltfest-mit-apricus-
 praesentation?layout=vcal
END:VEVENT
END:VCALENDAR
