BEGIN:VCALENDAR
VERSION:2.0
PRODID:-//TEST Apricus e.V.//NONSGML kigkonsult.se iCalcreator 2.41.92//
CALSCALE:GREGORIAN
METHOD:PUBLISH
UID:65396437-3739-4663-b339-333832316335
X-WR-CALNAME:iCagenda
X-WR-CALDESC:Event Management Extension for Joomla!
X-WR-RELCALID:3E26604A-50F4-4449-8B3E-E4F4932D05B5
X-WR-TIMEZONE:Europe/Berlin
BEGIN:VTIMEZONE
TZID:Europe/Berlin
TZUNTIL:20271031T010000Z
BEGIN:STANDARD
TZNAME:CET
DTSTART:20251026T030000
TZOFFSETFROM:+0200
TZOFFSETTO:+0100
RDATE:20261025T030000
END:STANDARD
BEGIN:DAYLIGHT
TZNAME:CEST
DTSTART:20260329T020000
TZOFFSETFROM:+0100
TZOFFSETTO:+0200
RDATE:20270328T020000
END:DAYLIGHT
END:VTIMEZONE
BEGIN:VEVENT
UID:61636366-6239-4632-a130-643565393164
DTSTAMP:20260425T214125Z
CATEGORIES:Radfahren
CLASS:PUBLIC
DESCRIPTION;ALTREP="CID:<FFFF__=0ABBE548DFE235B58f9e8a93d@coffeebean.com>":
 Liebe Apricusse und Gäste\,\ndie diesjährigen 40. Coswiger Radwandertage f
 inden zum ersten Mal nicht in Deutschland\, sondern in Polen statt. Keine 
 Angst\, allzu weit ist es trotzdem nicht. Zehn Kilometer nördlich von Küst
 rin legt die Pension Nowy Młyn&nbsp\;in Namyślin an der Mysla einem Nebenf
 luss der Oder (Adr: Namyślin 46\, 74-406 Namyślin).\nDie Pension befindet 
 sich in der wunderschönen Landschaft. In dieser Gegend gibt es viel Grün u
 nd viel Wasser\, die Oder und die Warthe sind von hier nicht weit weg.\nDa
 s Freizeitobjekt ist Ostern exklusiv für unsere Gruppe reserviert. Damit h
 aben wir viel Raum für das\, was die Coswiger Radwandertage ausmacht: geme
 insame Zeit\, Bewegung\, Austausch und geselliges Beisammensein. Das Gelän
 de bietet reichlich Platz sowie verschiedene Möglichkeiten zur Freizeitges
 taltung\, darunter Billard\, einen Fußballplatz und einen Tennisplatz. Ein
 e Feuerstelle sowie mehrere Veranstaltungs- und Gemeinschaftsräume stehen 
 uns ebenfalls zur Verfügung und laden zu gemeinsamen Abenden und Aktivität
 en ein. Die Pension bietet auch viele weitere Aktivitäten an\, wie: Kajak-
  und Radfahren\, Nordic Walking\, Reiten und Angeln.\nAnreise am Freitag\,
  3. April:\nWie jedes Jahr möchten wir wieder die weiteste Anreise mit dem
  Fahrrad sowie die beste Gruppenanreise bei der Weit- und Meistbeteiligung
  auszeichnen. Die zum Nachweis auszufüllende Fahrtenkontrollkarte könnt ih
 r euch hier laden:&nbsp\;fahrtenkontrollkarte.pdf. Frühester Wertungsstart
  ist der 3.&nbsp\;April 0:00&nbsp\;Uhr\, Wertungsende ist 22:00&nbsp\;Uhr.
  Wer nach 19:00&nbsp\;Uhr ankommt\, muss rechtzeitig Bescheid geben\, dami
 t wir Abendessen zurückstellen können.&nbsp\;\nFür alle die\, die noch nic
 ht dabei waren: Der Weiteste-Anreise-Wettbewerb bedeutet\, dass ihr von ir
 gendwo (mindestens 30&nbsp\;km) mit dem Rad anreist und dabei alle max.&nb
 sp\;30&nbsp\;km einen Nachweis (Stempel\, Foto) mitbringt. Die weitesten S
 trecken werden prämiert – gefeiert werden aber alle\, die so angereist sin
 d.&nbsp\;Gruppenanreise (Meist-Beteiligung) bedeutet\, dass ihr in einer g
 roßen Gruppe möglichst viele Kilometer anradelt. Für beide Varianten könne
 n auch Kulturpunkte angesteuert und für den Wettbewerb angerechnet werden.
 \nAnreisemöglichkeiten:\n\nDer nächste Bahnhof ist Kostrzyn. Da kommt der 
 Zug aus Berlin-Lichtenberg nach ca. 1\,5&nbsp\;Stunden an. Der ist aber kl
 ein und hat wenig Platz. Daher wäre auch der Bahnhof Frankfurt/Oder eine O
 ption (44&nbsp\;km entfernt) oder der Bahnhof Wriezen (38&nbsp\;km entfern
 t)\nNatürlich kann man z.B. auch von Berlin aus anradeln. Vom Alex aus wär
 en das ca. 95&nbsp\;km.\n\nSamstag\, 4. April:\nBeabsichtigt sind zwei Tou
 ren\, eine große (über 60-70&nbsp\;km) und eine kleine (über 30-40&nbsp\;k
 m). Genaueres müssen wir noch planen und wir werden uns von den lieben Men
 schen dort beraten/inspirieren lassen.\nAbend: Eine Feuerstelle gibt es un
 d wenn das Wetter mitspielt\, können wir dort auch endlich mal das Apricus
 -Lied zelebrieren und aufnehmen – toi\, toi.\nAußerdem bietet das Objekt a
 uch eine Reihe Möglichkeiten für weitere Aktivitäten.\nSonntag\, 5. April:
 \nThe same procedure as every year: Rallye und Ostereiersuche.\nBei der Ra
 llye sind wieder 1 oder 2 Pflichtpunkte in der Umgebung anzufahren und zus
 ätzlich einige unterschiedlich wertvolle Punkte\, die wahlweise angefahren
  könnten. Aber alles mit einem Zeitlimit. Außerdem gibt es an den Punkten 
 auch Fragen zur Umgebung oder zu Apricus und eine neue Sportart für Apricu
 s\, den „Stahlroßweitwurf“ zu absolvieren. Lasst Euch überraschen\, was ge
 nau auf Euch wartet und bringt den notwendigen Elan mit.\nDer Tag wird dan
 n mit der traditionellen Auswertung der Wettbewerbe und dem gemütlichen Be
 isammensein ausklingen\, vielleicht auch wieder am Feuer.\nKosten\n*) Die 
 Preise für Kinder und Jugendliche bis 26 Jahre sind durch den Verein gestü
 tzt/reduziert.  \n\n\n\n\n\nTN-Gruppe\nApricus\nGäste\n\n\n\n\nErwachsene
 \n\n160\n175\n\n\nBürgergeldempfänger/Studenten ab 27 Jahre\n\n145\n160\n
 \n\nJugendliche 16-26 Jahre *\n\n120\n126\n\n\nKinder/Jugendliche 3-15 Jah
 re *\n\n110\n116\n\n\n\nAnmeldeschluss&nbsp\;ist der&nbsp\;28.&nbsp\;Febru
 ar 2026.\nDanach&nbsp\;eingehende Anmeldungen werden\, bei noch freien Kap
 azitäten\, mit einem&nbsp\;Preisaufschlag von 10%&nbsp\;für den entstehend
 en Mehraufwand berechnet.\n{loadmoduleid 164}\nIm Preis enthalten sind:\n
 \nÜbernachtungen mit Halbpension (Freitagabend bis Montagfrüh)\, bei entsp
 rechendem Wetter Grillen\nMittagessen am Samstag in einer Gaststätte bzw. 
 Sonntag vor Ort\n\nMitzubringen:\n\nFahrrad\ngute Laune\, Lust auf schöne 
 gemeinsame Tage\nNicht: Bettwäsche\n\nAnmeldungen bitte bei Michael Kraus 
 unter mkraus70@yahoo.de oder 0176-31330108. Dabei bitte angeben:\n\nWelche
  Tagestour (klein ~40&nbsp\;km oder groß ~60&nbsp\;km) Ihr mitmachen wollt
 . Damit kann dann nach einer geeigneten Gelegenheit zur Einkehr (Gaststätt
 e/Restaurant) geschaut werden.\nOb Ihr vegetarische Verpflegung haben woll
 t.\nOb ihr vorher oder nachher den Aufenthalt verlängern wollt.\n\nDie Anm
 eldung gilt nur bei Einzahlung auf das&nbsp\;{loadmoduleid 114}\nAuf ein t
 olles\, erlebnisreiches Wochenende bei unseren Nachbarn und auf Euch freue
 n sich:Jana und Micha
DTSTART:20260402T220000Z
DTEND:20260406T130000Z
GEO:00;0
LOCATION:
ORGANIZER:
SEQUENCE:1
SUMMARY:40. Coswiger Radwandertage
TRANSP:OPAQUE
URL:https://test.apricus-ev.de/termine/40-coswiger-radwandertage?layout=vca
 l
END:VEVENT
END:VCALENDAR
