BEGIN:VCALENDAR
VERSION:2.0
PRODID:-//TEST Apricus e.V.//NONSGML kigkonsult.se iCalcreator 2.41.92//
CALSCALE:GREGORIAN
METHOD:PUBLISH
UID:34346561-6233-4238-a639-353563353264
X-WR-CALNAME:iCagenda
X-WR-CALDESC:Event Management Extension for Joomla!
X-WR-RELCALID:3E26604A-50F4-4449-8B3E-E4F4932D05B5
X-WR-TIMEZONE:Europe/Berlin
BEGIN:VTIMEZONE
TZID:Europe/Berlin
TZUNTIL:20240331T010000Z
BEGIN:STANDARD
TZNAME:CET
DTSTART:20211031T030000
TZOFFSETFROM:+0200
TZOFFSETTO:+0100
RDATE:20221030T030000
RDATE:20231029T030000
END:STANDARD
BEGIN:DAYLIGHT
TZNAME:CEST
DTSTART:20220327T020000
TZOFFSETFROM:+0100
TZOFFSETTO:+0200
RDATE:20230326T020000
END:DAYLIGHT
END:VTIMEZONE
BEGIN:VEVENT
UID:33623661-6538-4262-a234-356163356336
DTSTAMP:20260425T215230Z
CATEGORIES:Treffen
CLASS:PUBLIC
DESCRIPTION;ALTREP="CID:<FFFF__=0ABBE548DFE235B58f9e8a93d@coffeebean.com>":
 Hallo liebe Apricuse und Gäste\,\nam verlängerten Wochenende 23.-26.9. wol
 len wir der europäischen Kultur-Hauptstadt von 2016\, dem polnischen Wrocł
 aw einen Besuch erstatten (verlängert\, wegen der besseren An- und Abreise
 möglichkeiten). Dieser Besuch ist in erster Linie ein kulturelles Event\, 
 wo wir uns verschiedene kulturelle und zeitgeschichtliche Einrichtungen an
 schauen und viel über die Stadt und die Region erfahren wollen.\nDa wir ab
 er Apricus sind und nichts ohne eine sportliche Aktivität geht\, werden wi
 r das ganze mit einer kleinen Paddeltour auf den städtischen Oder-Armen un
 d dem Erwanderen der Stadt garnieren. Übernachten wollen wir in Jugendherb
 erg(en) oder preiswerten Pension(en).\nVorab hier die Frage an Euch: Wer m
 öchte mitkommen?\nWir benötigen die Info zeitnah um - vor Allem - die Über
 nachtungen\, aber auch die Aktivitäten und die Fahrten hin und zurück plan
 en zu können.\nBitte meldet Euch per Mail bei Evy oder Micha bis zum 21. A
 ugust.\nGenaueres\, was\, wann\, wo und wie erfahrt Ihr dann demnächst.Es 
 grüßen Evy und Micha
DTSTART:20220923T140000Z
DTEND:20220926T160000Z
GEO:00;0
LOCATION:
ORGANIZER:
SEQUENCE:1
SUMMARY:Aktiv-Kultur-Wochenende
TRANSP:OPAQUE
URL:https://test.apricus-ev.de/termine/aktiv-kultur-wochenende-2?layout=vca
 l
END:VEVENT
END:VCALENDAR
