BEGIN:VCALENDAR
VERSION:2.0
PRODID:-//TEST Apricus e.V.//NONSGML kigkonsult.se iCalcreator 2.41.92//
CALSCALE:GREGORIAN
METHOD:PUBLISH
UID:62393263-3430-4637-a533-313066396434
X-WR-CALNAME:iCagenda
X-WR-CALDESC:Event Management Extension for Joomla!
X-WR-RELCALID:3E26604A-50F4-4449-8B3E-E4F4932D05B5
X-WR-TIMEZONE:Europe/Berlin
BEGIN:VTIMEZONE
TZID:Europe/Berlin
TZUNTIL:20270328T010000Z
BEGIN:STANDARD
TZNAME:CET
DTSTART:20241027T030000
TZOFFSETFROM:+0200
TZOFFSETTO:+0100
RDATE:20251026T030000
RDATE:20261025T030000
END:STANDARD
BEGIN:DAYLIGHT
TZNAME:CEST
DTSTART:20250330T020000
TZOFFSETFROM:+0100
TZOFFSETTO:+0200
RDATE:20260329T020000
END:DAYLIGHT
END:VTIMEZONE
BEGIN:VEVENT
UID:62623539-6634-4435-b962-353566336130
DTSTAMP:20260422T041301Z
CATEGORIES:Absage bzw. Verschiebung
CLASS:PUBLIC
DESCRIPTION;ALTREP="CID:<FFFF__=0ABBE548DFE235B58f9e8a93d@coffeebean.com>":
 Aufgrund der Terminüberschneidungen mit unserer Paddeltour auf der Havel z
 u Himmelfahrt und dem Sternfahrt-Zubringer aus Leipzig wird es uns in dies
 em Jahr nicht möglich sein\, einen Stand auf dem diesjährigen Umweltfestiv
 al in Berlin zu betreuen.\nAlternativ werden wir uns an zwei anderen Messe
 n bzw. Festivals beteiligen:\n\nAm 10./11.&nbsp\;Mai werdet Ihr uns bei de
 r VELO Berlin antreffen\, hier findet Ihr uns am Stand H_G12 im Hangar 4.
 \nAm 15.&nbsp\;Juni beteiligen wir uns an der Ökofete Leipzig des Ökolöwen
 .
DTSTART:20250601T080000Z
DTEND:20250601T170000Z
GEO:00;0
LOCATION:Berlin
ORGANIZER:
SEQUENCE:1
SUMMARY:Apricus auf dem Berliner Umweltfest
TRANSP:OPAQUE
URL:https://test.apricus-ev.de/termine/apricus-berliner-umweltfestival-2
END:VEVENT
END:VCALENDAR
