BEGIN:VCALENDAR
VERSION:2.0
PRODID:-//TEST Apricus e.V.//NONSGML kigkonsult.se iCalcreator 2.41.92//
CALSCALE:GREGORIAN
METHOD:PUBLISH
UID:65613530-6634-4662-b339-613434663937
X-WR-CALNAME:iCagenda
X-WR-CALDESC:Event Management Extension for Joomla!
X-WR-RELCALID:3E26604A-50F4-4449-8B3E-E4F4932D05B5
X-WR-TIMEZONE:Europe/Berlin
BEGIN:VTIMEZONE
TZID:Europe/Berlin
TZUNTIL:20280326T010000Z
BEGIN:STANDARD
TZNAME:CET
DTSTART:20251026T030000
TZOFFSETFROM:+0200
TZOFFSETTO:+0100
RDATE:20261025T030000
RDATE:20271031T030000
END:STANDARD
BEGIN:DAYLIGHT
TZNAME:CEST
DTSTART:20260329T020000
TZOFFSETFROM:+0100
TZOFFSETTO:+0200
RDATE:20270328T020000
END:DAYLIGHT
END:VTIMEZONE
BEGIN:VEVENT
UID:32323862-3336-4434-a239-343432633037
DTSTAMP:20260425T231849Z
CATEGORIES:Radfahren
CLASS:PUBLIC
DESCRIPTION;ALTREP="CID:<FFFF__=0ABBE548DFE235B58f9e8a93d@coffeebean.com>":
 Geplant ist eine Fahrt mit der Draisine von Zossen zum Mellensee (oder noc
 h etwas weiter) und wieder zurück.
DTSTART:20260920T080000Z
DTEND:20260920T160000Z
GEO:00;0
LOCATION:
ORGANIZER:
SEQUENCE:1
SUMMARY:E10 - Draisinenfahrt Zossen
TRANSP:OPAQUE
URL:https://test.apricus-ev.de/termine/e10-draisinenfahrt-zossen?layout=vca
 l
END:VEVENT
END:VCALENDAR
