BEGIN:VCALENDAR
VERSION:2.0
PRODID:-//TEST Apricus e.V.//NONSGML kigkonsult.se iCalcreator 2.41.92//
CALSCALE:GREGORIAN
METHOD:PUBLISH
UID:35626462-6332-4766-a266-653665303934
X-WR-CALNAME:iCagenda
X-WR-CALDESC:Event Management Extension for Joomla!
X-WR-RELCALID:3E26604A-50F4-4449-8B3E-E4F4932D05B5
X-WR-TIMEZONE:Europe/Berlin
BEGIN:VTIMEZONE
TZID:Europe/Berlin
TZUNTIL:20221030T010000Z
BEGIN:STANDARD
TZNAME:CET
DTSTART:20201025T030000
TZOFFSETFROM:+0200
TZOFFSETTO:+0100
RDATE:20211031T030000
END:STANDARD
BEGIN:DAYLIGHT
TZNAME:CEST
DTSTART:20200329T020000
TZOFFSETFROM:+0100
TZOFFSETTO:+0200
RDATE:20210328T020000
RDATE:20220327T020000
END:DAYLIGHT
END:VTIMEZONE
BEGIN:VEVENT
UID:62353931-6531-4463-b865-663030383435
DTSTAMP:20260425T214127Z
CATEGORIES:Wandern
CLASS:PUBLIC
DESCRIPTION;ALTREP="CID:<FFFF__=0ABBE548DFE235B58f9e8a93d@coffeebean.com>":
 Information vom 23.10. und wichtige Ergänzungen vom 29.10.:\nAufgrund der 
 Corona-Entwicklungen habe ich mich entschlossen\, diese Veranstaltung doch
  nur als Tagestour(en) ohne Übernachtung anzubieten und: wegen Gleisbauarb
 eiten im Raum Potsdam\, die An- und Abreise am Sonnabend beeinträchtigen w
 ürden\, wird diese Wanderung jetzt am kommenden Sonntag stattfinden. Kurz 
 zusammengefasst: Stadterkundung in Belzig am Freitag bleibt - danach Heimf
 ahrt\, Sonnabend die alternative Wanderung auf dem Mauerweg\,&nbsp\; sonnt
 ags dann die Etappe auf dem E11 nach Raben (von der Wanderstrecke wie gepl
 ant). Die Tourenbeschreibung wurde nochmals angepasst.\n\nBeschreibung\nHa
 llo liebe Apricusse und Gäste\,\nder Herbst lädt zum Wandern ein und wir w
 ollen uns wieder ein Stück des Europäischen Fernwanderwegs E11 erobern. Im
  letzten Jahr hatten wir es bis nach Bad Belzig geschafft und die nunmehr 
 14.&nbsp\;Etappe wird uns weiter durch den Fläming und ein Stück in Richtu
 ng unserer „alten Heimat“ Coswig (Anhalt) führen.\nDa es mit Übernachtunge
 n im Moment schwierig ist\, wird es am Freitag nur einen 'Kulturtag' in Be
 lzig geben und wegen der Gleisbauarbeiten am Sonntag dann die Wanderung vo
 n Bad Belzig über Grubo nach Raben\, von wo aus uns der Bus nach Bad Belzi
 g bringen wird. Wir können dafür also mit leichtem Tagesgepäck wandern. Üb
 rigens haben wir bei dieser Streckenführung die Möglichkeit\, nach (Tages-
 )Form oder Wetter etc. etwas die Tourenlänge zu variieren (Details weiter 
 unten).\nFreitag\, 30. Oktober\nInteressierte an einem Stadtrundgang in Ba
 d Belzig mit Besuch des Heimatmuseums in der Burg Eisenhardt sollten späte
 stens 13:45 Uhr am Bahnhof Bad Belzig sein. Nach dem Stadtbummel werden wi
 r erst einmal wieder nach Hause fahren müssen (Hinweise zu An- und Abreise
 möglichkeiten s.u.).\nSonntag\, 1. November\nWir treffen uns um 9:30 Uhr a
 m Bahnhof Belzig (spätestens 9:45 Uhr falls noch jemand mit dem Zug aus Ri
 chtung Leipzig / Dessau dazukommen möchte\, der- oder diejenige sollte sic
 h bei mir vorher melden).\nZunächst führt uns der Weg\, der hier parallel 
 zum eventuell bereits bekannten Kunstwanderweg ist\, zum Hagelberg – den h
 öchsten Berg Brandenburgs. Dort können wir uns auf knapp 201 Metern Höhe i
 ns Gipfelbuch eintragen und hoffentlich die Aussicht auf die Gegend genieß
 en. Gleich nach dem Abstieg passieren wir den Ort Klein Glien und laufen d
 ann weiter durch die hübsche und abwechslungsreiche Landschaft. Hinter dem
  nächsten Ort\, Grubo\, wendet sich der E11 in einer Extra-Schleife nochma
 ls kurz nach Norden\, um die Wanderer anschließend durch den besonders sch
 önen Bereich der Brautrummel – einem der typischen\, eiszeitlichem Trocken
 täler des Flämings – zu führen. Danach erreichen wir nach insgesamt 26&nbs
 p\;Kilometern unser Tagesziel in Raben: die Bushaltestelle vor dem Naturpa
 rkzentrum in Raben\, von wo uns der Bus wieder nach Bad Belzig bringen wir
 d.\nDa der Bus auch durch Grubo fährt\, gibt es 3 Möglichkeiten\, die Stre
 ckenlänge zu variieren: man hört bereits in Grubo auf (bis dort sind es nu
 r 16&nbsp\;Kilometer\, man verpasst aber die Brautrummel)\, oder man läuft
  die Schleife durch die Brautrummel und danach auf kurzem Weg bis Grubo zu
 rück (21&nbsp\;Kilometer) oder man läuft wie zuvor beschrieben die 26&nbsp
 \;Kilometer bis Raben. Das können wir direkt vor Ort entscheiden.\nEntlang
  des Weges gibt es keine Einkehrmöglichkeiten\, bringt euch also Getränke 
 und Proviant für den Tag mit. Wir werden uns unterwegs einfach ein schönes
  Plätzchen für eine Rast suchen und uns am Mitgebrachten stärken.\nPreise
 \nDa es sich nun um eine Tagestour handelt\, entfallen die zuvor angegeben
 en Kosten.\nGäste zahlen 1&nbsp\;€ für die Versicherung.\nAn- und Abreise
 \nAnreise mit einem Zug der Linie RE 7 (aus Richtung Berlin stündlich\, au
 s Richtung Dessau (Leipzig / Coswig) alle 2&nbsp\;Stunden).\nAbreise am So
 nnabend per Bus nach Bad Belzig (fährt nachmittags im Abstand von 2 Stunde
 n und hat Anschluss an den RE 7 nach Berlin\, ich plane mit dem Bus um 15:
 55&nbsp\;Uhr\, damit es nicht zu spät wird - u.U. laufen wir dann nur bis 
 Grubo) .Wie bereits beschrieben fährt man dann mit dem Regionalexpress wei
 ter nach Berlin oder Dessau&nbsp\;/ Leipzig&nbsp\;/ Coswig.\nAnmeldungen\n
 ...die Anmeldefrist für die ursprünglich geplante Veranstaltung mit Überna
 chtung ist bereits vorbei. Die angemeldeten Teilnehmer werden informiert (
 bekommen auch den Beitrag vsl. in voller Höhe zurück).\n...für die nun gep
 lante Variante als Tagestour ist keine Anmeldung notwendig - aber erwünsch
 t\, damit man sich nicht verpasst. Das gilt insbesondere für Teilnehmer\, 
 die mit dem RE 7 aus Richtung Dessau anreisen wollen. Dazu könnt ihr euch 
 bei mir per Mail (MarianneA@apricus-ev.de) auch noch kurzfristig melden.\n
 Feinabstimmungen zu Treffpunkt und -zeiten gibt es dann kurz vor der Wande
 rung. Auf bequeme und an das Wetter angepasste Wanderkleidung sollte jeder
  selbst achten\; empfehlenswert ist außerdem das Mitbingen einer Stirnlamp
 e.\nAlso bis bald\, auf dem E11\,Marianne und Frank
DTSTART:20201101T083000Z
DTEND:20201101T170000Z
GEO:00;0
LOCATION:
ORGANIZER:
SEQUENCE:1
SUMMARY:Wanderung auf dem E11\, Teil 14
TRANSP:OPAQUE
URL:https://test.apricus-ev.de/termine/e11-wanderung?layout=vcal
END:VEVENT
END:VCALENDAR
