BEGIN:VCALENDAR
VERSION:2.0
PRODID:-//TEST Apricus e.V.//NONSGML kigkonsult.se iCalcreator 2.41.92//
CALSCALE:GREGORIAN
METHOD:PUBLISH
UID:39623932-3962-4634-a261-313365616662
X-WR-CALNAME:iCagenda
X-WR-CALDESC:Event Management Extension for Joomla!
X-WR-RELCALID:3E26604A-50F4-4449-8B3E-E4F4932D05B5
X-WR-TIMEZONE:Europe/Berlin
BEGIN:VTIMEZONE
TZID:Europe/Berlin
TZUNTIL:20240331T010000Z
BEGIN:STANDARD
TZNAME:CET
DTSTART:20211031T030000
TZOFFSETFROM:+0200
TZOFFSETTO:+0100
RDATE:20221030T030000
RDATE:20231029T030000
END:STANDARD
BEGIN:DAYLIGHT
TZNAME:CEST
DTSTART:20220327T020000
TZOFFSETFROM:+0100
TZOFFSETTO:+0200
RDATE:20230326T020000
END:DAYLIGHT
END:VTIMEZONE
BEGIN:VEVENT
UID:66656632-3331-4361-a232-373064623230
DTSTAMP:20260425T213437Z
CATEGORIES:Radfahren
CLASS:PUBLIC
DESCRIPTION;ALTREP="CID:<FFFF__=0ABBE548DFE235B58f9e8a93d@coffeebean.com>":
 ...mit Apricus von Coswig nach Wörlitz\nSeit einigen Jahren wird der Elber
 adeltag als volkssportliches Radwanderevent gefeiert. Im Jahr 2019 übergab
  die Lutherstadt Wittenberg an Coswig (Anhalt) den Staffelstab\, dann wurd
 e leider 2 Jahre lang wegen Corona zwangsweise pausiert. Dieses Jahr nun s
 oll es eine Fortsetzung geben\, der Staffelstab wird dabei von Coswig an d
 ie Stadt Wörlitz weiter gereicht. Die Stadt Coswig hat unseren Erlebnisspo
 rtverband Apricus&nbsp\;e.V. um die Ausrichtung einer öffentlichen Radwand
 erung von Coswig nach Wörlitz gebeten.\nTreffpunkt ist um 9:00&nbsp\;Uhr a
 uf dem Coswiger Marktplatz zu einem zünftigen Radlerfrühstück. Die Stadt s
 tellt hierfür Brötchen zur Verfügung\, es wird darum gebeten\, dass jeder 
 etwas an Belag mitbringt. Auf dem Marktplatz werden dann Tische aufgestell
 t sein. Aus unserer Sicht ist es sehr empfehlenswert\, noch etwas früher d
 ort zu sein.\nNach einer offiziellen Eröffnungsansprache seitens der Stadt
  Coswig geht es dann um 9:30&nbsp\;Uhr auf die Räder.(Hinweis: Wer erst mi
 t den Zügen anreisen kann\, die kurz vor 9:30&nbsp\;Uhr ankommen\, fährt v
 om Bahnhof vor zur Geschwister-Scholl-Straße und schließt sich dort an der
  Brücke über die Eisenbahn dem Pulk an.)\nDie Tour führt über das Flämingb
 ad nach Klieken\, von dort weiter an der alten Elbe vorbei und über die Au
 tobahnbrücke nach Vockerode. Von hier aus geht es über das Kapenschlössche
 n zum Park und in die Stadt Oranienbaum. Über Kakau und Horstdorf erreiche
 n wir schließlich nach etwas mehr als 30&nbsp\;Kilometern Wörlitz.\nEs wir
 d einige kurze Kulturstopps geben\, bei denen auf kulturelle oder naturkun
 dliche Sehenswürdigkeiten aufmerksam gemacht wird\, allerdings ohne dass w
 ir die Zeit zu ausführlichen Besichtigungen haben\, denn um 12:00&nbsp\;Uh
 r werden wir auf dem Marktplatz in Wörlitz zum offiziellen Programm des El
 beradeltages erwartet. Die Zwischenstopps sind von daher als Ideengeber fü
 r weiterführende individuelle Touren zu verstehen.\nIn Wörlitz gibt es dan
 n ein buntes Programm und diverse Verpflegungsmöglichkeiten. Die Rückfahrt
  tritt jeder individuell an. Apricus wird aber auch anbieten\, dass man si
 ch zur gemeinsamen Rückfahrt findet.\nOrganisatorisches\n\nEine Anmeldung 
 vorab ist ratsam\, um die Kapazitäten für das Radlerfrühstück planen zu kö
 nnen.\nWenn möglich solltet Ihr Euch etwas früher am Treffpunkt auf dem Ma
 rktplatz in Coswig einfinden.\nAb einer Gruppenstärke von 16 Teilnehmern w
 ird im Verband gefahren. Hinweise unserer Leiter und Leiterinnen sind zu b
 eachten.\nNähere Auskünfte und Anmeldungen bei Marianne Arnold unter Maria
 nneA@apricus.ev.de oder telefonisch unter 030-53010219 (auch AB nutzen!).
 \nEs gibt noch einige Details\, die mit den anderen Beteiligten geklärt we
 rden. Deshalb können sich eventuell kleinere Änderungen ergeben\, die entw
 eder hier oder unter den angemeldeten Teilnehmern per Mail bekanntgegeben 
 werden.\n\nDa die Veranstaltung von der Stadt Coswig gesponsert wird\, ent
 stehen außerhalb der individuellen Verpflegung keine Teilnehmerkosten.\nFü
 r Interessierte und Tourenleiter bieten wir hier den GPS-Track der Tour zu
 m ansehen und herunterladen: Track auf Bernhard Gauls GPX-Viewer (die Wegp
 unkte sind Hinweise für die Tourenleiter\, das Ziel wurde am 29.4. angepas
 st!).\n\n&nbsp\;\nBitte beachtet die dann jeweilig gültigen Corona-Auflage
 n\, die an diesem Wochenende im Landkreis Wittenberg (Sachsen-Anhalt) gelt
 en – inklusive eventuell nötiger Testnachweise oder ähnlichem. Auskunft da
 rüber erteilt der Landkreis auch auf seiner Internetseite.
DTSTART:20220501T073000Z
DTEND:20220501T110000Z
GEO:00;0
LOCATION:
ORGANIZER:
SEQUENCE:1
SUMMARY:Elberadeltag
TRANSP:OPAQUE
URL:https://test.apricus-ev.de/termine/elberadeltag?layout=vcal
END:VEVENT
END:VCALENDAR
