BEGIN:VCALENDAR
VERSION:2.0
PRODID:-//TEST Apricus e.V.//NONSGML kigkonsult.se iCalcreator 2.41.92//
CALSCALE:GREGORIAN
METHOD:PUBLISH
UID:38373362-3137-4033-a139-333938303439
X-WR-CALNAME:iCagenda
X-WR-CALDESC:Event Management Extension for Joomla!
X-WR-RELCALID:3E26604A-50F4-4449-8B3E-E4F4932D05B5
X-WR-TIMEZONE:Europe/Berlin
BEGIN:VTIMEZONE
TZID:Europe/Berlin
TZUNTIL:20271031T010000Z
BEGIN:STANDARD
TZNAME:CET
DTSTART:20251026T030000
TZOFFSETFROM:+0200
TZOFFSETTO:+0100
RDATE:20261025T030000
END:STANDARD
BEGIN:DAYLIGHT
TZNAME:CEST
DTSTART:20260329T020000
TZOFFSETFROM:+0100
TZOFFSETTO:+0200
RDATE:20270328T020000
END:DAYLIGHT
END:VTIMEZONE
BEGIN:VEVENT
UID:35336365-3465-4034-b763-633761303136
DTSTAMP:20260425T213429Z
CATEGORIES:Radfahren
CLASS:PUBLIC
DESCRIPTION;ALTREP="CID:<FFFF__=0ABBE548DFE235B58f9e8a93d@coffeebean.com>":
 Zu unserer 3. Fahrt in den Mai laden wir dieses Jahr ein in den Osten von 
 Mecklenburg-Vorpommern.\nWir starten in Vorpommerns uckermärkischen Stadt 
 Strasburg und radeln zunächst nordwärts zu den Brohmer&nbsp\;Bergen und de
 m Galenbecker See\, bevor wir durch die Helpter Berge die Windmühlenstadt 
 Woldegk ansteuern.&nbsp\;Durch das angrenzende Mecklenburg-Strelitz geht e
 s dann nach Burg Stargard und zu guter Letzt umfahren wir&nbsp\;den Tollen
 sesee.\nÜbernachtet wird im Hotel Wasserturm (Strasburg)\, in der Pension 
 zum Mühlenblick (Woldegk) sowie in der JH Burg&nbsp\;Stargard in 2- Bettzi
 mmern. Wie immer wird das Gepäck auf den eigenen Rädern mitgenommen.\n\nAn
 reise/Treff: Donnerstag\, den 30.4.2026\, im Hotel Wasserturm\, Lindenstr.
  2b in 17335 Strasburg (Uckermark).&nbsp\;Strasburg liegt an der Bahnstrec
 ke Stettin-Lübeck\, zu erreichen über Pasewalk.\nFreitag\, den 1.&nbsp\;Ma
 i\, geht es nach dem Frühstück zum Heimatmuseum mit Ausstellung über den B
 oxer Max&nbsp\;Schmeling und weiter in die Windmühlenstadt Woldegk mit sei
 nen historischen Windmühlen. Woldegk liegt am Fuße der höchsten Erhebung M
 ecklenburgs\, dem Helpter Berg mit 179m.(Streckenläne ca. 55 km)\nFoto Mar
 ia Krüger\, Wikipedia\nSamstag\, den 2.&nbsp\;Mai\, fahren wir zunächst na
 ch Süden durch den Naturpark Feldberger Seenlandschaft und&nbsp\;anschließ
 end wieder nach Nordwesten bis nach Burg Stargard. Wenn noch Zeit ist\, ka
 nn die gleichnamige&nbsp\;Höhenburg besichtigt werden.(Streckenlänge ca. 6
 0 km)\nSonntag\, den 3.&nbsp\;Mai\, umrunden wir fast den Tollensesee und 
 beenden unsere&nbsp\;Tour in der Vier-Tore-Stadt Neubrandenburg mit seiner
  Stadtmauer und den Wiekhäusern.(Streckenlänge ca. 40 km)\nAbreise:&nbsp\;
 Sonntag\, den 03.05.2026\, ab Neubrandenburg (Bahnstrecke Berlin – Stralsu
 nd)\nmaximale Anzahl Teilnehmer: 10\nKosten:\n*)&nbsp\;Nachweis beim Organ
 isator vorlegen**) vom Verein unterstützt  \n\n\n\n\n\nTN-Gruppe\nApricus
 \nGäste\n\n\n\n\nErwachsene\n\n190\n205\n\n\nBürgergeldempfänger*/Studente
 n* ab 27 Jahre\n\n170\n185\n\n\nJugendliche ab 14 Jahre **\n\n150\n156\n\n
 \n\n{loadmoduleid 164}\nIm Preis enthalten sind:\n\ndie Übernachtungen mit
  Frühstück\ndie Bettwäsche\ndie Organisation\ndas Abendessen in der JH Bur
 g Stargard\n\nDer Eintritt in Kultureinrichtungen (Museum\, …) und die Gas
 tstättenbesuche (Abend/Mittag) sind nicht im Preis&nbsp\;enthalten.\nAnmel
 dung bis zum 20.03.2026: bei Diana und Jörg Schulze unter diana.schulze@ma
 ilbox.org oder Telefon:&nbsp\;038352 669975. Es gilt das Windhund-Prinzip 
 – wer zuerst kommt ...\nDie Anmeldung gilt nur bei Einzahlung der Teilnahm
 egebühr auf das{loadposition ap-kontodaten}\nAuf eine schöne Fahrt in den 
 Mai und natürlich auf Euch freuen sichDiana und Jörg
DTSTART:20260430T203200Z
DTEND:20260503T160000Z
GEO:00;0
LOCATION:
ORGANIZER:
SEQUENCE:1
SUMMARY:Fahrt in den Mai
TRANSP:OPAQUE
URL:https://test.apricus-ev.de/termine/fahrt-in-den-mai-2?layout=vcal
END:VEVENT
END:VCALENDAR
