BEGIN:VCALENDAR
VERSION:2.0
PRODID:-//TEST Apricus e.V.//NONSGML kigkonsult.se iCalcreator 2.41.92//
CALSCALE:GREGORIAN
METHOD:PUBLISH
UID:31376366-3233-4061-b539-326261333566
X-WR-CALNAME:iCagenda
X-WR-CALDESC:Event Management Extension for Joomla!
X-WR-RELCALID:3E26604A-50F4-4449-8B3E-E4F4932D05B5
X-WR-TIMEZONE:Europe/Berlin
BEGIN:VTIMEZONE
TZID:Europe/Berlin
TZUNTIL:20211031T010000Z
BEGIN:STANDARD
TZNAME:CET
DTSTART:20191027T030000
TZOFFSETFROM:+0200
TZOFFSETTO:+0100
RDATE:20201025T030000
END:STANDARD
BEGIN:DAYLIGHT
TZNAME:CEST
DTSTART:20200329T020000
TZOFFSETFROM:+0100
TZOFFSETTO:+0200
RDATE:20210328T020000
END:DAYLIGHT
END:VTIMEZONE
BEGIN:VEVENT
UID:65643865-3937-4735-a463-323936626166
DTSTAMP:20260421T133108Z
CATEGORIES:Absage bzw. Verschiebung
CLASS:PUBLIC
DESCRIPTION;ALTREP="CID:<FFFF__=0ABBE548DFE235B58f9e8a93d@coffeebean.com>":
 Liebe Sportfreunde\,\nwegen der Pandemie müssen wir leider bis einschließl
 ich 24.&nbsp\;Mai 2020 alle Veranstaltungen absagen. Das betrifft auch die
  hier genannte 'Fahrt in den Mai'.\nWir halten euch auf dem Laufenden und 
 bitten um Beachtung der allgemeinen Verhaltenshinweise des Bundesgesundhei
 tsministeriums (https://www.zusammengegencorona.de/).\nEuer Vorstand
DTSTART:20200430T120000Z
DTEND:20200503T160000Z
GEO:00;0
LOCATION:
ORGANIZER:
SEQUENCE:1
SUMMARY:Fahrt in den Mai\, Pasewalk - Anklam
TRANSP:OPAQUE
URL:https://test.apricus-ev.de/termine/fahrt-in-den-mai?iccaldate=2025-04-1
END:VEVENT
END:VCALENDAR
