BEGIN:VCALENDAR
VERSION:2.0
PRODID:-//TEST Apricus e.V.//NONSGML kigkonsult.se iCalcreator 2.41.92//
CALSCALE:GREGORIAN
METHOD:PUBLISH
UID:38663734-6638-4464-a239-313035303835
X-WR-CALNAME:iCagenda
X-WR-CALDESC:Event Management Extension for Joomla!
X-WR-RELCALID:3E26604A-50F4-4449-8B3E-E4F4932D05B5
X-WR-TIMEZONE:Europe/Berlin
BEGIN:VTIMEZONE
TZID:Europe/Berlin
TZUNTIL:20250330T010000Z
BEGIN:STANDARD
TZNAME:CET
DTSTART:20221030T030000
TZOFFSETFROM:+0200
TZOFFSETTO:+0100
RDATE:20231029T030000
RDATE:20241027T030000
END:STANDARD
BEGIN:DAYLIGHT
TZNAME:CEST
DTSTART:20230326T020000
TZOFFSETFROM:+0100
TZOFFSETTO:+0200
RDATE:20240331T020000
END:DAYLIGHT
END:VTIMEZONE
BEGIN:VEVENT
UID:31333362-6235-4734-b562-353630663466
DTSTAMP:20260425T215229Z
CATEGORIES:Klettern
CLASS:PUBLIC
DESCRIPTION;ALTREP="CID:<FFFF__=0ABBE548DFE235B58f9e8a93d@coffeebean.com>":
 Liebe Leute\,\nwie schon im Jahresprogramm angekündigt\, wollen wir Euch z
 u einem Wochenende in der wunderbaren Sächsischen Schweiz einladen. Geplan
 t ist eine sportliche Wanderung über einige der schönsten Wege und Stiegen
  des Gebirges im Gebiet Schrammsteine/Affensteine. Es gibt dort grandiose 
 Ausblicke\, schaurige Schluchten\, spektakuläre Felsen und wilde Tiere (ja
 \, auch Löwen) zu bestaunen. Dazu gratis jede Menge Sand und sterbenden Wa
 ld…\nWer auch noch wissen möchte\, wieso diese Landschaft so seltsam schön
  gestaltet ist\, kann dies unterwegs gern erfahren.\nAchtung!!! Die Wege s
 ind nicht barrierefrei. Das bedeutet\, dass es immer mal wieder luftig wir
 d und wir einige Stiegen (so heißen dort die Klettersteige) begehen werden
 . Diese sind normalerweise für jeden gangbar\, man muss aber schon mal die
  Hände aus den Taschen nehmen und zufassen... Sicherheitshalber nehmen wir
  etwas Material zum Sichern mit. Um dabei die Übersicht nicht zu verlieren
 \, ist die Teilnehmerzahl auf 8 begrenzt.\nWir übernachten an regengeschüt
 zten Plätzen im 1000-Sterne-Hotel – also im Freien. Ein Zelt ist nicht nöt
 ig - Isomatte und Schlafsack schon. Wer abends etwas Warmes essen oder tri
 nken möchte\, sollte einen Kocher mitbringen. Auch sonst ist jeder für Ver
 pflegung selbst verantwortlich. Einkehrmöglichkeiten können nicht garantie
 rt werden. Für Trinkwasser gibt es Quellen.\nTeilnehmerbeitrag\n\n* Bürger
 geld-/ALG-Empfänger: bitte Nachweis vorlegen.\n  \n\n\n\n\n\nTN-Gruppe\nAp
 ricus\nGäste\n\n\n\n\nErmäßigte (Schüler\, Azubis\, Studenten\, Bürgergeld
 -Empfänger*)\n\n9\n13\n\n\nErwachsene\n\n11\n15\n\n\n\nDarin enthalten ist
  die Materialleihe. Wer eigenes Material (Hüftgurt\, Klettersteigset\, Hel
 m) mitbringt und bis 3.9. Bescheid gibt\, bekommt dies auf den Teilnehmerb
 eitrag gutgerechnet.\nOrganisatorisches\nWir treffen uns am Freitag dem 8.
  September um 19:43&nbsp\;Uhr am Bahnhof Schmilka-Hirschmühle. Um diese Uh
 rzeit kommt hier die S-Bahn aus Richtung Dresden&nbsp\;/ Bad Schandau an (
 wer diese Ankunftszeit nicht hinbekommt\, gibt Bescheid\, wir finden für j
 eden eine Lösung). Wir gehen dann gemeinsam zur Fähre (kostet etwa 2€) und
  setzen auf die andere Elbseite über. Es ist dann noch etwa 1&nbsp\;h Fußw
 eg.\nFür Anmeldungen und Nachfragen wendet Euch bitte an unsere Serviceabt
 eilung:\n\naziza.mustafa@gmx.de01577-7806406 (abends)\n\nWenn Ihr schreibt
 \, gebt bitte eine Mobiltelefonnummer an\, damit wir uns auch kurzfristig 
 noch absprechen können.\nDie Anmeldung gilt nur bei gleichzeitiger Einzahl
 ung des oben genannten Teilnehmerbeitrag auf das {loadposition ap-kontodat
 en}.\nWir freuen uns auf EuchAziza &amp\; Osama
DTSTART:20230908T160000Z
DTEND:20230910T160000Z
GEO:00;0
LOCATION:
ORGANIZER:
SEQUENCE:1
SUMMARY:Klettersteige in der Sächsischen Schweiz
TRANSP:OPAQUE
URL:https://test.apricus-ev.de/termine/klettersteige-in-der-saechsischen-sc
 hweiz?layout=vcal
END:VEVENT
END:VCALENDAR
