BEGIN:VCALENDAR
VERSION:2.0
PRODID:-//TEST Apricus e.V.//NONSGML kigkonsult.se iCalcreator 2.41.92//
CALSCALE:GREGORIAN
METHOD:PUBLISH
UID:65323734-6533-4937-a562-643930643834
X-WR-CALNAME:iCagenda
X-WR-CALDESC:Event Management Extension for Joomla!
X-WR-RELCALID:3E26604A-50F4-4449-8B3E-E4F4932D05B5
X-WR-TIMEZONE:Europe/Berlin
BEGIN:VTIMEZONE
TZID:Europe/Berlin
TZUNTIL:20231029T010000Z
BEGIN:STANDARD
TZNAME:CET
DTSTART:20201025T030000
TZOFFSETFROM:+0200
TZOFFSETTO:+0100
RDATE:20211031T030000
RDATE:20221030T030000
END:STANDARD
BEGIN:DAYLIGHT
TZNAME:CEST
DTSTART:20210328T020000
TZOFFSETFROM:+0100
TZOFFSETTO:+0200
RDATE:20220327T020000
RDATE:20230326T020000
END:DAYLIGHT
END:VTIMEZONE
BEGIN:VEVENT
UID:30353364-6665-4439-a335-356635383438
DTSTAMP:20260425T213436Z
CATEGORIES:Radfahren
CLASS:PUBLIC
DESCRIPTION;ALTREP="CID:<FFFF__=0ABBE548DFE235B58f9e8a93d@coffeebean.com>":
 In diesem September holen wir nach\, was letztes Jahr nicht möglich war un
 d radeln von Forst&nbsp\;(Lausitz) zur Neißemündung und dann weiter bis Fr
 ankfurt&nbsp\;(Oder). Bereits am Freitag\, dem 24.09. gibt es die Möglichk
 eit\, in Forst den bis 19:00&nbsp\;Uhr geöffneten Ostdeutschen Rosengarten
  (Eintritt 5 € ermäßigt 2\,50 €) zu besuchen. In dieser Parkanlage befinde
 n sich zehntausende Rosen\, die fast 1.000 verschiedenen Arten angehören. 
 Diejenigen\, die die Stadt Forst und den Rosengarten besichtigen wollen\, 
 haben die Möglichkeit der Übernachtung inklusive Frühstück in der „Pension
  am Kegeldamm“.\nAm Sonnabend führt uns unsere Radtour in Fließrichtung de
 r Neiße zunächst nach Grießen\, wo wir zu einer Wehrkirche und dann an ein
 en Aussichtspunkt am Rande des noch aktiven Braukohlentagebaus Jänschwalde
  gelangen. Der Blick in den riesigen Tagebau ist sicherlich beeindruckend.
  Anschließend geht es weiter nach Guben/Gubin. Die Neiße und damit die deu
 tsch-polnische Grenze verläuft hier mitten durch die Stadt und auch durch 
 deren Zentrum. Die Sehenswürdigkeiten der Altstadt sind auf beide Stadthäl
 ften verteilt. Im Rathaus von Gubin gibt es eine Einkehrmöglichkeit\, die 
 uns von den Pensionswirten in Ratzdorf ausdrücklich empfohlen wurde. Nach 
 Stadtbesichtigung und Einkehr fahren wir ca. 10&nbsp\;km auf polnischem Ge
 biet weiter bis zur 2014 erbauten Brücke „Neißewelle“\, über die wir wiede
 r nach Deutschland radeln und schließlich die Mündung der Lausitzer Neiße 
 in die Oder erreichen.\nZehn Fußminuten von der Neißemündung entfernt und 
 direkt an der Oder befindet sich in der Gemeinde Neißemünde (Ortsteil Ratz
 dorf) unsere Unterkunft mit dem Namen „Radlerbett“. Die Länge der Tour am 
 Sonnabend beträgt ca. 50&nbsp\;km.\nNach einem gemütlichen Frühstück am ge
 ht es am Sonntag nunmehr an der Oder entlang. Wir fahren nach Neuzelle und
  sehen uns das Zisterzienserkloster an. Im barocken Baustil errichtet und 
 mit einer prunkvoll ausgestatteten katholischen Kirche ist die Anlage für 
 diese Region eher ungewöhnlich. Sicherlich gibt es auch die Möglichkeit\, 
 das schwarze Klosterbräu zu kosten. Von dort aus ist es nicht mehr weit bi
 s Eisenhüttenstadt. Wir fahren durch die denkmalgeschützte Planstadt und s
 ehen uns die in den 50er- und 60er-Jahren entstandene DDR-Wohnbauten der e
 hemaligen Stalinstadt an. Von Eisenhüttenstadt aus sind es noch ca. 25&nbs
 p\;km bis Frankfurt (Oder)\, wo wir unsere diesjährige Etappe beenden werd
 en. Die Länge der Sonntagstour beträgt ebenfalls ca. 50&nbsp\;km.\nVon Fra
 nkfurt (Oder) aus fahren halbstündlich stündlich Züge nach Berlin (von hie
 r auch weiter in Richtung Leipzig) und stündlich nach Cottbus. Von dort au
 s geht es weiter in Richtung Dresden und Görlitz.\nTeilnehmerbeitrag\n*) H
 artz4-Empfänger – bitte Nachweis vorlegen.**) Die Preise für Kinder und Ju
 gendliche sind durch den Verein gestützt / reduziert.  \n\n\nTeilnahme Fr 
 - So\nTeilnahme Sa - So\n\nTN-Gruppe\nApricus\nGäste\nApricus\nGäste\n\n\n
 \n\nErwachsene\n\n60\n70\n32\n37\n\n\nErmäßigt (Hartz4-Empfänger)*\n\n50\n
 60\n27\n32\n\n\nKinder und Jugendliche bis 26 J. / Studenten**\n\n40\n44\n
 22\n24\n\n\n\nIm Preis enthalten sind zwei Übernachtungen mit Frühstück bz
 w. eine Übernachtung mit Frühstück - darin nicht enthalten sind Kosten für
  Unterwegsverpflegung und Abendbrot sowie evtl. selbst zu bezahlende Eintr
 ittsgelder.\nAnreise\nVon Berlin und Görlitz aus ist Forst jede Stunde err
 eichbar\, meistens mit Umsteigen in Cottbus. Von Dresden und Leipzig aus g
 eht es ebenfalls über Cottbus aber nur alle zwei Stunden.\nAnmeldung\nBitt
 e bis zum Sonntag\, den 12.&nbsp\;September&nbsp\;2021 anmelden unter fran
 kp@apricus-ev.de oder telefonisch 0173-8132345. Da wir in Pensionen überna
 chten ist die Zahl der Plätze begrenzt.\nWie immer gelten die Anmeldungen 
 nur bei Einzahlung des Teilnehmerbeitrages auf das{loadmoduleid 114}.\nEs 
 gilt das Windhundprinzip - wer zuerst einzahlt und sich anmeldet hat seine
 n Platz sicher.\nDa noch nicht alle Pensionen unsere Übernachtung bestätig
 t haben\, kann sich noch die eine oder andere kleine Änderung ergeben.\nBi
 s bald an der NeißeFrank und Marianne\nP.S.: Bitte beachtet\, dass am Sonn
 tag\, dem 26.&nbsp\;September\, Bundestagswahl ist. Wenn Ihr von Eurem Wah
 lrecht Gebrauch machen wollt\, müsst Ihr vorher per Briefwahl wählen.
DTSTART:20210924T070000Z
DTEND:20210926T160000Z
GEO:00;0
LOCATION:Forst\, Frankfurt (Oder)
ORGANIZER:
SEQUENCE:1
SUMMARY:Neiße-Oder-Radtour (2)
TRANSP:OPAQUE
URL:https://test.apricus-ev.de/termine/neisse-oder-radtour-2?layout=vcal
END:VEVENT
END:VCALENDAR
