BEGIN:VCALENDAR
VERSION:2.0
PRODID:-//TEST Apricus e.V.//NONSGML kigkonsult.se iCalcreator 2.41.92//
CALSCALE:GREGORIAN
METHOD:PUBLISH
UID:36353738-3639-4661-b538-353536626363
X-WR-CALNAME:iCagenda
X-WR-CALDESC:Event Management Extension for Joomla!
X-WR-RELCALID:3E26604A-50F4-4449-8B3E-E4F4932D05B5
X-WR-TIMEZONE:Europe/Berlin
BEGIN:VTIMEZONE
TZID:Europe/Berlin
TZUNTIL:20241027T010000Z
BEGIN:STANDARD
TZNAME:CET
DTSTART:20211031T030000
TZOFFSETFROM:+0200
TZOFFSETTO:+0100
RDATE:20221030T030000
RDATE:20231029T030000
END:STANDARD
BEGIN:DAYLIGHT
TZNAME:CEST
DTSTART:20220327T020000
TZOFFSETFROM:+0100
TZOFFSETTO:+0200
RDATE:20230326T020000
RDATE:20240331T020000
END:DAYLIGHT
END:VTIMEZONE
BEGIN:VEVENT
UID:61323438-6630-4764-b364-373161333062
DTSTAMP:20260425T214125Z
CATEGORIES:Radfahren
CLASS:PUBLIC
DESCRIPTION;ALTREP="CID:<FFFF__=0ABBE548DFE235B58f9e8a93d@coffeebean.com>":
 \nTreffpunkt/ -zeit: Elbefähre Coswig 9:45&nbsp\;Uhr bzw. ca. 10min später
  auf der anderen Seite der Elbe\nKosten: für Apricus-Mitglieder keine\, fü
 r Gäste 1&nbsp\;€ (Versicherungsbeitrag)\nDie Fährkosten und evtl. sonstig
 e Kosten für Eintritte oder Verpflegung etc. sind von jedem selbst zu trag
 en.\nLänge der Tour: ca. 85 km\, ggf. bei Abstecher nach Pretzsch ca. 90-9
 5 km\nEs sind die üblichen aktuell vor Ort geltenden Corona-Regeln zu beac
 hten.\n\nWir starten also an der Fähre und radeln zunächst durch die schön
 e Elbaue auf überwiegend ruhigen\, mitunter unbefestigten Wegen. Dabei geh
 t es nochmal zurück an die Elbe und durch ein Stück Kernzone des Biosphäre
 nreservates. Nach einigen Kilometern erreichen wir den Rand der Dübener He
 ide und fahren hier entlang Richtung Südosten. Dabei kann es auch mal ein 
 wenig hügelig werden\, aber dafür oftmals schattig durch schöne Mischwälde
 r.\nKulturell wäre als erster Höhepunkt das Wasserschloss Reinharz (einige
 n schon bekannt) und ein paar Kilometer weiter die Kurstadt Bad Schmiedebe
 rg mit dem bekannten Au-Tor\, Kurhaus und Kuranlagen und neuerdings einem 
 Gradierwerk und auch einem Radfahrerdenkmal\, errichtet 1923! Stärken kann
  man sich natürlich hier auch.\nAlternativ können wir ein paar Kilometer w
 eiter zum sehr schön gelegenen Restaurant Golmer Weinberg radeln. Hierbei 
 sind wir auch schon auf unserem optionalen Abstecher nach Pretzsch mit Sch
 loss an der Elbe.\nZurück geht es dann teilweise auf dem ruhigeren linksel
 bischen Elberadweg an Bösewig und einigen alten Elbarmen vorbei Richtung W
 artenburg (Schlacht unter Napoleon) bzw. ruhigen Landstraßen nach Pratau. 
 Hier wäre eine Möglichkeit zum Zugeinstieg bzw. ein Abstecher nach Wittenb
 erg möglich.\nFür die anderen gehts auf dem links-elbischen Radweg Richtun
 g Wörlitz nach Coswig zurück.\nEs freut sich auf Euer Kommen\,Andreas\n(Te
 l. 0151 57534833)Anmeldungen erwünscht\, aber nicht zwingend nötig\n&nbsp\
 ;\nP.S.: Die Tour war bereits für den 27.8. geplant\, konnte aber an diese
 m Tag nicht durchgeführt werden.
DTSTART:20221015T074500Z
DTEND:20221015T160000Z
GEO:00;0
LOCATION:
ORGANIZER:
SEQUENCE:1
SUMMARY:Radtour Bad Schmiedeberg
TRANSP:OPAQUE
URL:https://test.apricus-ev.de/termine/radtour-bad-schmiedeberg?layout=vcal
END:VEVENT
END:VCALENDAR
