BEGIN:VCALENDAR
VERSION:2.0
PRODID:-//TEST Apricus e.V.//NONSGML kigkonsult.se iCalcreator 2.41.92//
CALSCALE:GREGORIAN
METHOD:PUBLISH
UID:30636130-6230-4836-a164-323233373533
X-WR-CALNAME:iCagenda
X-WR-CALDESC:Event Management Extension for Joomla!
X-WR-RELCALID:3E26604A-50F4-4449-8B3E-E4F4932D05B5
X-WR-TIMEZONE:Europe/Berlin
BEGIN:VTIMEZONE
TZID:Europe/Berlin
TZUNTIL:20231029T010000Z
BEGIN:STANDARD
TZNAME:CET
DTSTART:20211031T030000
TZOFFSETFROM:+0200
TZOFFSETTO:+0100
RDATE:20221030T030000
END:STANDARD
BEGIN:DAYLIGHT
TZNAME:CEST
DTSTART:20210328T020000
TZOFFSETFROM:+0100
TZOFFSETTO:+0200
RDATE:20220327T020000
RDATE:20230326T020000
END:DAYLIGHT
END:VTIMEZONE
BEGIN:VEVENT
UID:61303036-3232-4366-a361-613134353039
DTSTAMP:20260425T214127Z
CATEGORIES:Radfahren
CLASS:PUBLIC
DESCRIPTION;ALTREP="CID:<FFFF__=0ABBE548DFE235B58f9e8a93d@coffeebean.com>":
 Die Tour „Tagebaue jetzt und früher“ führt uns zu Erhohlungsgebieten\, die
  aus früheren Tagebaurestlöchern entstanden sind. Es wird auch noch ein ak
 tiver Tagebau zu sehen sein.\nNach dem Treff an der Sachsenbrücke geht es 
 am „Karl-Heine-Kanal“ entlang. Durch das Neubaugebiet Miltitzer Allee komm
 en wir zum „Kulkwitzer See“. Der Kulkwitzer See war schon zum Ende des 19.
 &nbsp\;Jahrhunderts ein Braunkohletagebau und wurde dann Anfang der 70-er 
 Jahre zum Naherholungsgebiet.\nWeiter geht es dann an der Ostseite des Kul
 kwitzer Sees in Richtung Weißenfels. Dort fahren wir ein Stück auf einer a
 ls Radweg ausgebauten ehemaligen Eisenbahnstrecke. Dann treffen wir auf di
 e 'Saale-Unstrut-Elster-Rad-Acht'. Dieser ist ein landschaftlich sehr abwe
 chslungsreicher Radweg entlang der bekannten Weinberge im Saale-Unstrut-Ge
 biet und alter Industriegebiete. Heute befahren wir - dem Thema entspreche
 nd - den Teil an dem sich früher Tagebaue befanden. Auf der Rad-Acht radel
 n wir jetzt in Richtung Südosten zur ehemaligen Kreisstadt Hohenmölsen. Am
  Stadtrand entlang erreichen wir den „Mondsee“. Der Name soll an die Form 
 des ehemaligen Tagebaurestloches erinnern. Im Zuge der Rekultivierungsmaßn
 ahmen wurde er in den 90-er Jahren zum Mittelpunkt des Freizeitparkes Pirk
 au. Dort werden wir eine größere Picknickpause machen. Für die ganz Mutige
 n besteht eventuell die Möglichkeit zum Baden.\nAnschließend verlassen wir
  wieder die Saale-Unstrut-Elster Rad-Acht und radeln durch den jetzt noch 
 aktiven „Tagebau Profen“\; dort können wir an einen Aussichtspunkt sehen\,
  wie es in einem Tagebau aussieht. Nach ca. 50&nbsp\;km werden wir Profen 
 erreichen. Von hier besteht die Möglichkeit\, stündlich mit dem Zug nach L
 eipzig zu fahren.\nWer noch Lust auf ca. 35 weitere Kilometer hat\, kann g
 erne wieder mit nach Leipzig zurückradeln. Die Strecke führt auf dem Elste
 rradweg nach Groitzsch. Auf der alten Bahnstrecke geht es dann nach Zwenka
 u. Am Zwenkauer- und Cospudener See entlang (auch ehemalige Tagebaurestlöc
 her)\, geht es dann wieder zurück zum Startpunkt an der Sachsenbrücke.\n\n
 Treffpunkt ist 8:30&nbsp\;Uhr an der Sachsenbrücke\nEnde der Tour wird so 
 gegen 17:00&nbsp\;– 17:30&nbsp\;Uhr sein.\nKosten: 2&nbsp\;€ für Apricus- 
 oder ADFC-Mitglieder&nbsp\;/ 3 € für Gäste (vor Ort zu zahlen)\nAnmeldung:
  nicht notwendig.\nTourenleiter und Infos: Thomas Stark\, troeglitz1966@ao
 l.com oder 0160-97061324\n\nExtra: Wir haben ja 2 Touren an diesem Wochene
 nde in/bei Leipzig (s.a. Radtour 'Leipziger Berge' am 27.3.). Wer eine pre
 iswerte Unterkunft benötigt\, kann sich gern zwecks Hilfe unter mkraus70@y
 ahoo.de oder 0176-31330108 bei Michael Kraus melden.\nSo und also: Auf’s R
 ad und ab in den Frühling!\nEs grüßt und freut sichDer Thomas\n&nbsp\;\n\n
 Corona-Regeln bei Apricus-Veranstaltungen\n{loadmoduleid 135}
DTSTART:20220326T080000Z
DTEND:20220326T160000Z
GEO:00;0
LOCATION:
ORGANIZER:
SEQUENCE:1
SUMMARY:Radtour 'Braunkohle'
TRANSP:OPAQUE
URL:https://test.apricus-ev.de/termine/radtour-braunkohle?layout=vcal
END:VEVENT
END:VCALENDAR
