BEGIN:VCALENDAR
VERSION:2.0
PRODID:-//TEST Apricus e.V.//NONSGML kigkonsult.se iCalcreator 2.41.92//
CALSCALE:GREGORIAN
METHOD:PUBLISH
UID:64393731-3663-4532-a164-353237353161
X-WR-CALNAME:iCagenda
X-WR-CALDESC:Event Management Extension for Joomla!
X-WR-RELCALID:3E26604A-50F4-4449-8B3E-E4F4932D05B5
X-WR-TIMEZONE:Europe/Berlin
BEGIN:VTIMEZONE
TZID:Europe/Berlin
TZUNTIL:20220327T010000Z
BEGIN:STANDARD
TZNAME:CET
DTSTART:20191027T030000
TZOFFSETFROM:+0200
TZOFFSETTO:+0100
RDATE:20201025T030000
RDATE:20211031T030000
END:STANDARD
BEGIN:DAYLIGHT
TZNAME:CEST
DTSTART:20200329T020000
TZOFFSETFROM:+0100
TZOFFSETTO:+0200
RDATE:20210328T020000
END:DAYLIGHT
END:VTIMEZONE
BEGIN:VEVENT
UID:64363663-3331-4039-b965-623634616638
DTSTAMP:20260425T213431Z
CATEGORIES:Radfahren
CLASS:PUBLIC
DESCRIPTION;ALTREP="CID:<FFFF__=0ABBE548DFE235B58f9e8a93d@coffeebean.com>":
 Liebe Apricusse\, liebe Gäste\,\nwir laden Euch zu einer ca. 30 Kilometer-
 Radtour von Calau über Altdöbern durch die Plinsdörfer in der Calauer Schw
 eiz zurück nach Calau ein.\nVon Calau fahren wir auf der alten Poststraße 
 über Buchwäldchen\, Muckwar nach Altdöbern. Dort haben unsere Drahtesel er
 st mal Pause und wir unternehmen eine kleine Wanderung um den Großen Salzt
 eich durch den Schlosspark Altdöbern.\nAnfang des 18.&nbsp\;Jahrhunderts l
 ieß der sächsische General Alexander Dietrich von Eickstedt anstelle einer
  alten Wasserburg ein Schloss errichten. Die Dreiflügelanlage mit drei Ges
 chossen wurde rund dreißig Jahre später durch Carl Heinrich von Heineken i
 m Stil des Rokoko umgebaut. Aus dieser Zeit stammt auch die Gartenanlage n
 ach französischem Vorbild. Ende des 19.&nbsp\;Jahrhunderts erfolgt eine te
 ilweise Umwandlung in den damals gängigen Stil des englischen Landschaftsg
 artens. Zum Gebäudeensemble gehören neben dem Schloss ein Portal\, Kavalie
 rhäuser\, ein Marstall\, eine Orangerie und Wirtschaftsgebäude.\n\nWeiter 
 fahren wir über Luckaitz in das Plinsdorf Weißag. Dort gibt es schöne Feld
 steinhäuser zu bewundern (die Gegend ist „steinreich“). Dort wandern wir z
 um neuen 43 Meter hohen Aussichtturm. Von der 38 Meter hohen Aussichtsplat
 tform haben wir einen schönen Blick über die Calauer Schweiz - auf Calau\,
  die Halle von Tropical Island bis zum Kamenzer Hutberg. Der Turm wird Euc
 h an das Märchen Rapunzel erinnern.\nEs besteht die Möglichkeit\, einen kl
 einen Abstecher zum Altdöberner See zu unternehmen\, einem noch in der San
 ierung befindlichen ehemaligen Tagebau.\nAls Belohnung gibt es im Gasthaus
  des Ortes leckere Buchweizenplinse zum Kaffee.\nGut gestärkt fahren wir z
 urück nach Calau.\nVerpflegung:\nEine größere Einkehr zur Mittagspause ist
  nicht geplant. Bringt bitte etwas für unterwegs zu essen und zu trinken m
 it. Zur Kaffeezeit gibt es Buchweizenplinse (eine lokale Spezialität) im G
 asthaus Gaumer in Weißag.\nAnreise:\n\nab Berlin: Ostkreuz ab 8:58&nbsp\;U
 hr\, Calau an 10:14&nbsp\;Uhr\nab Leipzig: Hauptbahnhof 9:13&nbsp\;Uhr\, C
 alau an 10:37&nbsp\;Uhr\n\nWir sind um 10:14&nbsp\;Uhr auf dem Calauer Bah
 nhof und warten dann mit Euch auf die Mitfahrer aus Richtung Leipzig.\nRüc
 kfahrt:\n\nnach Berlin: 17:42 Uhr (fährt stündlich)\nnach Leipzig: 17.22 U
 hr alle zwei Stunden\n\nKosten:\nGäste zahlen einen Euro Versicherungsbeit
 rag vor Ort. Ansonsten trägt jeder seine Kosten für Fahrt und Verpflegung 
 selbst.\nAnmeldung:\nBitte meldet Euch bis zum 5. September 2020 an unter 
 Tel. 03541 808963\, 0174 6474848 oder per E-Mail annett.bareinz@t-online.d
 e\nAuf eine gemütliche Spätsommer-Radtour freuen sich\nAndré und Annett
DTSTART:20200906T080000Z
DTEND:20200906T170000Z
GEO:00;0
LOCATION:
ORGANIZER:
SEQUENCE:1
SUMMARY:Gemütliche Radtour durch die Calauer Schweiz
TRANSP:OPAQUE
URL:https://test.apricus-ev.de/termine/radtour-calauer-schweiz?layout=vcal
END:VEVENT
END:VCALENDAR
