BEGIN:VCALENDAR
VERSION:2.0
PRODID:-//TEST Apricus e.V.//NONSGML kigkonsult.se iCalcreator 2.41.92//
CALSCALE:GREGORIAN
METHOD:PUBLISH
UID:39663466-3364-4464-b235-303235633332
X-WR-CALNAME:iCagenda
X-WR-CALDESC:Event Management Extension for Joomla!
X-WR-RELCALID:3E26604A-50F4-4449-8B3E-E4F4932D05B5
X-WR-TIMEZONE:Europe/Berlin
BEGIN:VTIMEZONE
TZID:Europe/Berlin
TZUNTIL:20280326T010000Z
BEGIN:STANDARD
TZNAME:CET
DTSTART:20251026T030000
TZOFFSETFROM:+0200
TZOFFSETTO:+0100
RDATE:20261025T030000
RDATE:20271031T030000
END:STANDARD
BEGIN:DAYLIGHT
TZNAME:CEST
DTSTART:20260329T020000
TZOFFSETFROM:+0100
TZOFFSETTO:+0200
RDATE:20270328T020000
END:DAYLIGHT
END:VTIMEZONE
BEGIN:VEVENT
UID:63376230-3566-4330-a564-356665343932
DTSTAMP:20260425T214127Z
CATEGORIES:Radfahren
CLASS:PUBLIC
DESCRIPTION;ALTREP="CID:<FFFF__=0ABBE548DFE235B58f9e8a93d@coffeebean.com>":
 Bei unserer Sommerradtour streifen wir den Niederen Fläming nur ein bissch
 en\, halten uns stattdessen mehr in der Elbaue auf Richtung Mauken\, und g
 ucken\, ob wir dort ein leckeres Eis bekommen\, Bademöglichkeit nicht ausg
 eschlossen.
DTSTART:20260802T080000Z
DTEND:20260802T160000Z
GEO:00;0
LOCATION:
ORGANIZER:
SEQUENCE:1
SUMMARY:Radtour Elbe/Fläming
TRANSP:OPAQUE
URL:https://test.apricus-ev.de/termine/radtour-elbe-flaeming?layout=vcal
END:VEVENT
END:VCALENDAR
