BEGIN:VCALENDAR
VERSION:2.0
PRODID:-//TEST Apricus e.V.//NONSGML kigkonsult.se iCalcreator 2.41.92//
CALSCALE:GREGORIAN
METHOD:PUBLISH
UID:38323334-6261-4262-a561-336337383739
X-WR-CALNAME:iCagenda
X-WR-CALDESC:Event Management Extension for Joomla!
X-WR-RELCALID:3E26604A-50F4-4449-8B3E-E4F4932D05B5
X-WR-TIMEZONE:Europe/Berlin
BEGIN:VTIMEZONE
TZID:Europe/Berlin
TZUNTIL:20261025T010000Z
BEGIN:STANDARD
TZNAME:CET
DTSTART:20241027T030000
TZOFFSETFROM:+0200
TZOFFSETTO:+0100
RDATE:20251026T030000
END:STANDARD
BEGIN:DAYLIGHT
TZNAME:CEST
DTSTART:20240331T020000
TZOFFSETFROM:+0100
TZOFFSETTO:+0200
RDATE:20250330T020000
RDATE:20260329T020000
END:DAYLIGHT
END:VTIMEZONE
BEGIN:VEVENT
UID:62373062-3964-4162-b239-336266373531
DTSTAMP:20260425T231750Z
CATEGORIES:Radfahren
CLASS:PUBLIC
DESCRIPTION;ALTREP="CID:<FFFF__=0ABBE548DFE235B58f9e8a93d@coffeebean.com>":
 Liebe Apricüsse und Gäste\,\nwir beginnen unsere Radtour um 10:30 Uhr am C
 oswiger Bahnhof. Dort warten wir die Züge aus beiden Richtungen ab und sta
 rten dann Richtung Fähre (Kostenpunkt 3€ pro Person).\nAuf der anderen Elb
 seite angekommen\, fahren wir an Wörlitz vorbei zum Sieglitzer Berg\, wo w
 ir unsere erste kleine Pause machen. Kurz darauf folgt dann mit dem Schlos
 s und Park Luisium das Highlight der Tour. Anschließend begeben wir uns wi
 eder nach Norden und überqueren bei Roßlau die Elbbrücke.\nIn Meinsdorf kö
 nnen wir uns dann stärken - wenn das Wetter mitspielt vielleicht auch drau
 ßen. An der Rossel entlang geht es nach Thießen mit einem kurzen Stopp am 
 Kupferhammer. Die restlichen Kilometer verbringen wir dann auf kleineren S
 traßen bis wir nach cirka 55&nbsp\;km wieder in Coswig angekommen sind. We
 r will\, kann dort noch in die Eisdiele am Markt einkehren.\nWie sonst auc
 h ist die Teilnahme für Vereinsmitglieder kostenlos. Gäste zahlen einen Eu
 ro für die Versicherung.\nWer will\, kann sich bei mir direkt anmelden\, i
 st aber nicht zwingend erforderlich.Telefon: 01609-3870212 / E-Mail: jakob
 .k@mail.de\nIch freue mich auf euch!\nBis dahin\, Jakob
DTSTART:20250316T093000Z
DTEND:20250316T170000Z
GEO:00;0
LOCATION:
ORGANIZER:
SEQUENCE:1
SUMMARY:Radtour in den Frühling
TRANSP:OPAQUE
URL:https://test.apricus-ev.de/termine/radtour-in-den-fruehling-3?layout=vc
 al
END:VEVENT
END:VCALENDAR
