BEGIN:VCALENDAR
VERSION:2.0
PRODID:-//TEST Apricus e.V.//NONSGML kigkonsult.se iCalcreator 2.41.92//
CALSCALE:GREGORIAN
METHOD:PUBLISH
UID:33363566-6164-4230-b139-663061663661
X-WR-CALNAME:iCagenda
X-WR-CALDESC:Event Management Extension for Joomla!
X-WR-RELCALID:3E26604A-50F4-4449-8B3E-E4F4932D05B5
X-WR-TIMEZONE:Europe/Berlin
BEGIN:VTIMEZONE
TZID:Europe/Berlin
TZUNTIL:20280326T010000Z
BEGIN:STANDARD
TZNAME:CET
DTSTART:20251026T030000
TZOFFSETFROM:+0200
TZOFFSETTO:+0100
RDATE:20261025T030000
RDATE:20271031T030000
END:STANDARD
BEGIN:DAYLIGHT
TZNAME:CEST
DTSTART:20260329T020000
TZOFFSETFROM:+0100
TZOFFSETTO:+0200
RDATE:20270328T020000
END:DAYLIGHT
END:VTIMEZONE
BEGIN:VEVENT
UID:36323939-6635-4634-b139-373963353562
DTSTAMP:20260425T213427Z
CATEGORIES:Radfahren
CLASS:PUBLIC
DESCRIPTION;ALTREP="CID:<FFFF__=0ABBE548DFE235B58f9e8a93d@coffeebean.com>":
 Apricus bei der 50. Berliner Sternfahrt. Nacht-Anreise: 200 km ab Leipzig 
 (Start 00:45) auf B2 über Bad Düben\, Wittenberg\, Treuenbrietzen. In Werd
 er Anschluss an westlichen Strahl über Potsdam und Avus.
DTSTART:20260606T224000Z
DTEND:20260607T070000Z
GEO:00;0
LOCATION:
ORGANIZER:
SEQUENCE:1
SUMMARY:Sternfahrt-Zubringer Leipzig-Berlin
TRANSP:OPAQUE
URL:https://test.apricus-ev.de/termine/sternfahrt-zubringer-leipzig-berlin?
 layout=vcal
END:VEVENT
END:VCALENDAR
