BEGIN:VCALENDAR
VERSION:2.0
PRODID:-//TEST Apricus e.V.//NONSGML kigkonsult.se iCalcreator 2.41.92//
CALSCALE:GREGORIAN
METHOD:PUBLISH
UID:38373065-3232-4435-b734-343066343530
X-WR-CALNAME:iCagenda
X-WR-CALDESC:Event Management Extension for Joomla!
X-WR-RELCALID:3E26604A-50F4-4449-8B3E-E4F4932D05B5
X-WR-TIMEZONE:Europe/Berlin
BEGIN:VTIMEZONE
TZID:Europe/Berlin
TZUNTIL:20231029T010000Z
BEGIN:STANDARD
TZNAME:CET
DTSTART:20211031T030000
TZOFFSETFROM:+0200
TZOFFSETTO:+0100
RDATE:20221030T030000
END:STANDARD
BEGIN:DAYLIGHT
TZNAME:CEST
DTSTART:20210328T020000
TZOFFSETFROM:+0100
TZOFFSETTO:+0200
RDATE:20220327T020000
RDATE:20230326T020000
END:DAYLIGHT
END:VTIMEZONE
BEGIN:VEVENT
UID:36306633-6232-4666-b536-386137316238
DTSTAMP:20260425T213429Z
CATEGORIES:Wandern
CLASS:PUBLIC
DESCRIPTION;ALTREP="CID:<FFFF__=0ABBE548DFE235B58f9e8a93d@coffeebean.com>":
 Hallo zusammen\,\nAm Wochenende 13.&nbsp\;und 14.&nbsp\;November treffen w
 ir uns in Leipzig\, um wieder einmal bei einer herbstlichen Wanderung das 
 grüne (und blaue) Wesen der Stadt zu erfahren und um bei einem gemeinsamen
  Sonntags-BrLunch die Aktivitäten für 2022 zu besprechen und zu planen.\nW
 ichtig: Der Plan und die möglichen Übernachtungen sind vorläufig so möglic
 h. Natürlich kann sich da aber auch noch einiges auf Grund der aktuellen L
 age und möglicher Einschränkungen ändern. Wenn das so ist\, erhaltet Ihr z
 eitnah entsprechende Informationen.\nSamstag 13.&nbsp\;November: Wanderung
  in und bei Leipzig\nSagte ich schon\, dass die Messestadt eine besonders 
 grüne Stadt ist und dass man das daran merkt\, dass man sie in die meisten
  Himmelsrichtungen schon sehr zentrumsnah beginnend komplett im Grünen ver
 lassen kann?\nNachdem wir das letzte Jahr uns nicht direkt\, sondern nur o
 nline treffen konnten und das Jahr zuvor den südlichen Auenwald durchquert
  und in Markleeberg und am Cospudener See gelandet sind\, geht es dieses J
 ahr in den Westen bzw. Nordwesten der Stadt. Zunächst wandern wir an der N
 ahle\, der alten und der neuen Luppe entlang und durch den Leipziger Auenw
 ald bis zur Domholzschänke\, die an Wochenenden einen Imbiss geöffnet hat\
 , wo wir unkompliziert zu Essen und Trinken kommen können (die richtige Ga
 ststätte hat auch auf\, ist aber etwas teuer und am WE auch voll). Später 
 geht es lange Zeit am Elster-Saale-Kanal entlang\, der vielleicht irgendwa
 nn einmal vollendet wird\, bis dahin aber ein wunderbarer kleiner und idyl
 lischer Wasserlauf bleibt\, an welchem Wandern und Radfahren großen Spaß m
 acht.\nDie Tour ist ca. 20&nbsp\;km lang und nicht schwierig\, bei Regen k
 önnen die Wege allerdings matschig werden. Bei ganz schlimmen Wetter könne
 n wir auf dem Rückweg die Öffis abpassen.\n\nTreffpunkt: 11:10&nbsp\;Uhr&n
 bsp\; Straßenbahnhaltestelle Angerbrücke(Linie 3 Richtung Lausen und Linie
  7 Richtung Böhlitz Ehrenberg). Das passt zur Ankunft verschiedener Region
 alzüge aus Richtung Norden.In der Nähe gibt es einen Supermarkt\, wo wir u
 ns eindecken können\, falls die aktuellen Bestimmungen das notwendig mache
 n.\nAnmeldung: bei Micha unter mkraus70@yahoo.de oder unter 0176 31330108.
 \nKosten: Gäste zahlen wie immer 1€ Versicherungsbeitrag vor Ort.\n\nÜbern
 achtung: Wer möchte kann bei mir privat oder im Hostel „Blauer Stern“ über
 nachten.\nIch müsste das relativ schnell wissen\, damit ich die notwendige
 n Reservierungen vornehmen kann\, meldet Euch also unter Anmeldung genannt
 en Kontaktdaten. Die Kosten klären wir vor Ort und teilen uns demokratisch
  rein.
DTSTART:20211113T090000Z
DTEND:20211113T170000Z
GEO:00;0
LOCATION:
ORGANIZER:
SEQUENCE:1
SUMMARY:Wanderung am Planungswochenende
TRANSP:OPAQUE
URL:https://test.apricus-ev.de/termine/wanderung-am-planungswochenende?layo
 ut=vcal
END:VEVENT
END:VCALENDAR
