BEGIN:VCALENDAR
VERSION:2.0
PRODID:-//TEST Apricus e.V.//NONSGML kigkonsult.se iCalcreator 2.41.92//
CALSCALE:GREGORIAN
METHOD:PUBLISH
UID:33336339-6438-4161-b134-383337373737
X-WR-CALNAME:iCagenda
X-WR-CALDESC:Event Management Extension for Joomla!
X-WR-RELCALID:3E26604A-50F4-4449-8B3E-E4F4932D05B5
X-WR-TIMEZONE:Europe/Berlin
BEGIN:VTIMEZONE
TZID:Europe/Berlin
TZUNTIL:20211031T010000Z
BEGIN:STANDARD
TZNAME:CET
DTSTART:20191027T030000
TZOFFSETFROM:+0200
TZOFFSETTO:+0100
RDATE:20201025T030000
END:STANDARD
BEGIN:DAYLIGHT
TZNAME:CEST
DTSTART:20190331T020000
TZOFFSETFROM:+0100
TZOFFSETTO:+0200
RDATE:20200329T020000
RDATE:20210328T020000
END:DAYLIGHT
END:VTIMEZONE
BEGIN:VEVENT
UID:39666535-3661-4165-a137-323736336638
DTSTAMP:20260425T213436Z
CATEGORIES:Wandern
CLASS:PUBLIC
DESCRIPTION;ALTREP="CID:<FFFF__=0ABBE548DFE235B58f9e8a93d@coffeebean.com>":
 Hallo zusammen\,Am Wochenende 16.&nbsp\;und 17.&nbsp\;November treffen wir
  uns in Leipzig\, um bei einer herbstlichen Wanderung das grüne (und blaue
 ) Wesen der Stadt zu erfahren und um bei einem gemeinsamen Sonntagsbrunch 
 die Aktivitäten für 2020 zu besprechen und zu planen.\nSamstag 16.November
 \nDass die Messestadt eine besonders grüne Stadt ist\, merkt man daran\, d
 ass man sie in die meisten Himmelsrichtungen schon sehr zentrumsnah beginn
 end komplett im Grünen verlassen kann.&nbsp\; Die letzten Wanderungen führ
 ten uns bereits nach Nord&nbsp\;/ Nordwest entlang der Luppengewässer und 
 des Auenwaldes bzw. von Nordosten aus durch viele Parks wieder in die Stad
 t hinein. Diesmal soll es der Süden sein\, bis hin zu den „Neuseen“ wo sic
 h in den letzten 30&nbsp\;Jahren das Landschaftsbild mächtig geändert hat\
 , nachdem die letzten Tagebaue geschlossen und die großen Löcher dann mit 
 eben diesen Seen geflutet wurden.\nUnser Weg führt uns durch den Clara-Zet
 kin-Park und den südlichen Auenwald\, entlang der Pleiße zunächst für eine
 n kleinen Besuch zur Dölitzer Wassermühle und zum Torhaus mit einer Zinnfi
 guren-Ausstellung. Nach einer Stärkung in der Spreewaldschenke (in Leipzig
 \, ha &#128521\;) geht es durch den Wildpark bis zum Cospudener See zum Ab
 baden und Konditorn! Von hier aus wandern wir am Elsterflutbett entlang Ri
 chtung Lindenau\, wo die Nachstationen (???) sind. Die Tour ist ca. 20&nbs
 p\;km lang und nicht schwierig. Bei Regen können die Wege allerdings matsc
 hig werden.\n\nTreffpunkt: 10:35 Uhr Straßenbahnhaltestelle Angerbrücke. D
 a kommen die Linien 3\, 7\, 15 vom Hauptbahnhof an.\nAnmeldung: nicht unbe
 dingt notwendig aber hilfreich für die Einkehr\,bitte bei Micha melden (s.
 a. Ausschreibung Planungsbrunch)\nKosten: Gäste zahlen wie immer 1€ Versic
 herungsbeitrag vor Ort.\n\nÜbernachtung: Wer möchte\, kann bei mir privat 
 oder im Hostel „Blauer Stern“ übernachten. Ich müsste das relativ schnell 
 wissen\, damit ich die notwendigen Reservierungen vornehmen kann. Die Kost
 en klären wir vor Ort und teilen uns demokratisch rein\; ggf. muss jemand 
 Schlafsack und Matte mitbringen.\nTagesgäste sind natürlich herzlich willk
 ommen.
DTSTART:20191116T080000Z
DTEND:20191116T160000Z
GEO:00;0
LOCATION:
ORGANIZER:
SEQUENCE:1
SUMMARY:Wanderung in und bei Leipzig
TRANSP:OPAQUE
URL:https://test.apricus-ev.de/termine/wanderung-bei-leipzig?layout=vcal
END:VEVENT
END:VCALENDAR
