BEGIN:VCALENDAR
VERSION:2.0
PRODID:-//TEST Apricus e.V.//NONSGML kigkonsult.se iCalcreator 2.41.92//
CALSCALE:GREGORIAN
METHOD:PUBLISH
UID:37666436-3237-4661-b733-613265663330
X-WR-CALNAME:iCagenda
X-WR-CALDESC:Event Management Extension for Joomla!
X-WR-RELCALID:3E26604A-50F4-4449-8B3E-E4F4932D05B5
X-WR-TIMEZONE:Europe/Berlin
BEGIN:VTIMEZONE
TZID:Europe/Berlin
TZUNTIL:20281029T010000Z
BEGIN:STANDARD
TZNAME:CET
DTSTART:20261025T030000
TZOFFSETFROM:+0200
TZOFFSETTO:+0100
RDATE:20271031T030000
END:STANDARD
BEGIN:DAYLIGHT
TZNAME:CEST
DTSTART:20260329T020000
TZOFFSETFROM:+0100
TZOFFSETTO:+0200
RDATE:20270328T020000
RDATE:20280326T020000
END:DAYLIGHT
END:VTIMEZONE
BEGIN:VEVENT
UID:31363539-3464-4361-a132-343266383361
DTSTAMP:20260425T213429Z
CATEGORIES:Wandern
CLASS:PUBLIC
DESCRIPTION;ALTREP="CID:<FFFF__=0ABBE548DFE235B58f9e8a93d@coffeebean.com>":
 Statt der üblichen Wanderung zur Möllensdorfer Waldweihnacht möchten wir d
 iesmal über die Elbfähre und durch den Wörlitzer Auwald und -wiesen zum eb
 enfalls sehr schönen Wörlitzer Weihnachtsmarkt unmittelbar am Rande des Pa
 rkes.
DTSTART:20261129T090000Z
DTEND:20261129T170000Z
GEO:00;0
LOCATION:
ORGANIZER:
SEQUENCE:1
SUMMARY:Weihnachtsmarktwanderung Wörlitz
TRANSP:OPAQUE
URL:https://test.apricus-ev.de/termine/weihnachtsmarktwanderung-woerlitz?la
 yout=vcal
END:VEVENT
END:VCALENDAR
